Workbook

Sheet mairies
A1: id | B1: ogc_fid | C1: nature | D1: x | E1: y | F1: insee_comm | G1: nom_comm | H1: maire | I1: adresse | J1: BV | K1: Hors ZI | L1: En ZI | M1: TF | N1: F | O1: M | P1: Rés | Q1: Ruis | R1: Indif | S1: tel | T1: fax | U1: mail | V1: ouverture
A2: 88 | B2: 88 | C2: Mairie | D2: 748946.64 | E2: 6317178.9 | F2: 30199 | G2: POMMIERS | H2: M TOUREILLE Denis | I2: Le Verdier 30120 Pommiers | J2: Hérault | K2: 1 | S2: 04 67 81 26 44 | U2: mairie.pommiers30@orange.fr | V2: Mardi 9h-12h
A3: 23 | B3: 23 | C3: Mairie | D3: 771154.74 | E3: 6326331.7 | F3: 30335 | G3: VABRES | H3: M PUDDU Jean-Noël | I3: Mairie 30460 Vabres | J3: Gardons | K3: 1 | S3: 04 66 85 28 79 | T3: 04 66 85 28 79 | U3: mairie.vabres@laposte.net | V3: Mercredi et vendredi 17h-19h
A4: 324 | B4: 325 | C4: Mairie | D4: 740431.03 | E4: 6321523.9 | F4: 30025 | G4: AUMESSAS | H4: M BARRAL Philippe | I4: Les Charmilles 30770 Aumessas | J4: Hérault | K4: 1 | S4: 04 67 82 03 57 | T4: 04 67 81 39 04 | U4: mairieaumessas@wanadoo.fr | V4: Lundi 9h-12h
A5: 4 | B5: 4 | C5: Mairie | D5: 766424.02 | E5: 6329760 | F5: 30322 | G5: SOUDORGUES | H5: M VAN PETEGHEM Bertrand | I5: Mairie Le Portal 30460 Soudorgues | J5: Gardons | K5: 1 | S5: 04 66 85 21 12 09 71 33 34 40 | U5: mairie.soudorgues@wanadoo.fr | V5: Mardi, samedi 10h-12h Vendredi 14h-16h
A6: 21 | B6: 21 | C6: Mairie | D6: 735257.3 | E6: 6318741.8 | F6: 30009 | G6: ALZON | H6: M LAURENS Roger | I6: Place de la Mairie 30770 Alzon | J6: Hérault | K6: 1 | S6: 04 66 82 01 63 | T6: 04 66 82 02 37 | U6: mairie.alzon@wanadoo.fr | V6: lundi - mercredi 9h00 ├á 11h30/14h00 16h00 vendredi 9h00 11h30
A7: 22 | B7: 22 | C7: Mairie | D7: 735621.29 | E7: 6329585 | F7: 30105 | G7: DOURBIES | H7: Mme LEBEAU Irène | I7: Mairie 30750 Dourbies | J7: Tarn Dourbie | K7: 1 | S7: 04 67 82 72 46 | T7: 04 67 82 75 11 | U7: mairiededourbies@orange.fr | V7: Lundi au Vendredi 8h30-12h15 Lundi, jeudi, vendredi de 13h30 ├á 17h
A8: 26 | B8: 26 | C8: Mairie | D8: 779985.31 | E8: 6325362.5 | F8: 30330 | G8: TORNAC | H8: Mme VIGNE Marielle | I8: 1543 route de Saint Hippolyte du Fort 30140 Tornac | J8: Gardons | K8: 1 | S8: 04 66 61 71 41 | T8: 04 66 60 57 08 | U8: mairietornac@wanadoo.fr | V8: Lundi, mardi, jeudi, vendredi 9h-12h / 13h30- 17h Mercredi 9h-12h
A9: 30 | B9: 30 | C9: Mairie | D9: 778769.45 | E9: 6331824.5 | F9: 30129 | G9: GENERARGUES | H9: M JACOT Thierry | I9: 1 route de Mialet 30140 Générargues | J9: Gardons | K9: 1 | S9: 04 66 61 72 04 | U9: mairie.generargues@wanadoo.fr | V9: Lundi 8h00 12h00 et 13h30 18h00 Mardi 8h00 18h00 Jeudi:8h00 12h00 et 13h30 18h00 Vendredi: 8h00 12h00
A10: 31 | B10: 31 | C10: Mairie | D10: 747018.97 | E10: 6322653.9 | F10: 30024 | G10: AULAS | H10: M MONTET Bruno | I10: Le Fossé 30120 Aulas | J10: Hérault | K10: 1 | S10: 04 67 81 10 26 | T10: 04 67 81 74 64 | U10: mairie.aulas@wanadoo.fr | V10: Lundi, mardi, jeudi et vendredi 8h-12h
A11: 33 | B11: 33 | C11: Mairie | D11: 775509.34 | E11: 6335091.3 | F11: 30168 | G11: MIALET | H11: M VERRIEZ Jack | I11: Mairie 30140 Mialet | J11: Gardons | K11: 1 | S11: 04 66 85 02 97 | T11: 04 66 85 01 89 | U11: communedemialet2@wanadoo.fr | V11: Lundi, mercredi, vendredi 9h-12h et 14h-18h, mardi et jeudi 14h-18h
A12: 55 | B12: 55 | C12: Mairie | D12: 781495.51 | E12: 6369130.7 | F12: 30153 | G12: MALONS-ET-ELZE | H12: M OLIVA Jean | I12: Hôtel de Ville 30450 Malons et Elze | J12: Cèze | K12: 1 | S12: 04 66 61 10 94 | U12: mairie.malons-et-elze@laposte.net | V12: Mardi au Vendredi 9h-12h
A13: 101 | B13: 101 | C13: Mairie | D13: 781589.08 | E13: 6320595.5 | F13: 30289 | G13: SAINT-NAZAIRE-DES-GARDIES | H13: M. MAZAURIC Pierre | I13: Mairie 30610 Saint Nazaire des Gardies | J13: Vidourle | K13: 1 | S13: 04 66 77 11 92 | U13: mairiedestnazairedesgardies@nordnet.fr | V13: Lundi et vendredi 8h-12h
A14: 34 | B14: 34 | C14: Mairie | D14: 755221.64 | E14: 6318687 | F14: 30272 | G14: SAINT-JULIEN-DE-LA-NEF | H14: M FAIDHERBE Lucas | I14: Mairie 30440 Saint Julien de la Nef | J14: Hérault | K14: 1 | S14: 04 67 82 44 80 | U14: saint.julien.mairie@orange.fr | V14: Lundi,vendredi 14h-17h Mercredi 9h-12h
A15: 37 | B15: 37 | C15: Mairie | D15: 780245.35 | E15: 6311061.2 | F15: 30148 | G15: LIOUC | H15: M JAHANT Guy | I15: Mairie 62 montée de l'aire 30260 Liouc | J15: Vidourle | K15: 1 | S15: 04 66 77 30 44 | U15: mairie.de.liouc@wanadoo.fr | V15: Mardi 13h30-18h30 Vendredi 8h30-16h30
A16: 59 | B16: 59 | C16: Mairie | D16: 776226.69 | E16: 6316203.2 | F16: 30311 | G16: SAUVE | H16: M GAILLARD Olivier | I16: Place Sivel BP 5 30610 Sauve | J16: Vidourle | L16: 1 | R16: 1 | S16: 04 66 77 50 19 | T16: 04 66 77 57 38 | U16: mairie.sauve@wanadoo.fr | V16: Lundi au jeudi 8h-12h / 13h30-17h30 Vendredi 8h-12h / 13h30-16h30
A17: 61 | B17: 61 | C17: Mairie | D17: 770855.32 | E17: 6334441.4 | F17: 30269 | G17: SAINT-JEAN-DU-GARD | H17: M RUAS Michel | I17: 1, rue du Maréchal de Thoiras 30270 Saint Jean du Gard | J17: Gardons | L17: 1 | R17: 1 | S17: 04 66 56 26 36 | T17: 04 66 56 26 44 | U17: contact@ville-saintjeandugard.fr | V17: Lundi au vendredi 8h-12h / 14h-17h, samedi 9h-12h
A18: 115 | B18: 115 | C18: Mairie | D18: 736929.01 | E18: 6311252.5 | F18: 30353 | G18: VISSEC | H18: M PONS Laurent | I18: Mairie 30770 Vissec | J18: Hérault | K18: 1 | S18: 04 67 81 50 58 | U18: mairie.vissec@laposte.net | V18: Mercredi 10h-16h
A19: 68 | B19: 68 | C19: Mairie | D19: 733703.61 | E19: 6317216.4 | F19: 30064 | G19: CAMPESTRE-ET-LUC | H19: M BRUNEL Jean-Marie | I19: Hôtel de Ville 30770 Campestre et Luc | J19: Hérault | K19: 1 | S19: 04 67 82 01 35 | U19: mairie-campestre@orange.fr | V19: Mardi 9h-15h Samedi 9h-12h
A20: 80 | B20: 80 | C20: Mairie | D20: 782044.57 | E20: 6324785.9 | F20: 30162 | G20: MASSILLARGUES-ATTUECH | H20: Mme GENOLHER Aurélie | I20: Hôtel de Ville 30140 Massillargues-Attuech | J20: Gardons | K20: 1 | S20: 04 66 61 71 65 | T20: 04 66 61 60 02 | U20: mairie.massillargues-atuech@wanadoo.fr | V20: Lundi, mardi, jeudi, vendredi 8h30-12h / 16h00-17h30 Mercredi 8h30-12h
A21: 82 | B21: 82 | C21: Mairie | D21: 745933.66 | E21: 6321276.2 | F21: 30052 | G21: BREAU-MARS | H21: M DURAND Alain | I21: Mairie 30120 Bréau et Salagosse | J21: Hérault | K21: 1 | S21: 04 67 81 04 60 | U21: contact@breau-salagosse.fr | V21: Lundi au vendredi 8h-12h
A22: 87 | B22: 87 | C22: Mairie | D22: 757281.59 | E22: 6320276.1 | F22: 30325 | G22: SUMENE | H22: M PAILLER Ghislain | I22: 26 Place du plan 30440 Sumène | J22: Hérault | L22: 1 | R22: 1 | S22: 04 67 81 30 05 | T22: 04 67 81 33 79 | U22: mairie-de-sumene@wanadoo.fr | V22: Lundi au vendredi 8h30-12h et 14h-17h30
A23: 89 | B23: 89 | C23: Mairie | D23: 781708.32 | E23: 6328345.7 | F23: 30042 | G23: BOISSET-ET-GAUJAC | H23: M HEUDDEBAUTJulien | I23: Place Emile Chambon 30140 Boisset et Gaujac | J23: Gardons | K23: 1 | S23: 04 66 61 82 46 | T23: 04 66 61 93 28 | U23: mairie.boissetetgaujac@orange.fr | V23: Lundi au vendredi 9h-12h / 14h-17h Samedi 9h-12h
A24: 112 | B24: 112 | C24: Mairie | D24: 779052.72 | E24: 6328757.9 | F24: 30010 | G24: ANDUZE | H24: Mme BLANC Geneviève | I24: Plan de Brie 30140 Anduze | J24: Gardons | L24: 1 | N24: 1 | S24: 04 66 61 80 08 | T24: 04 66 61 96 95 | U24: mairie.anduze@laposte.net | V24: Lundi au mercredi 9h-12h / 13h30-16h30 Jeudi 9h-12h Vendredi 9h-12h / 13h30-15h30 Samedi 10h-12h
A25: 113 | B25: 113 | C25: Mairie | D25: 745827.94 | E25: 6310025.9 | F25: 30219 | G25: ROGUES | H25: Mme DURAND Martine | I25: Le Village 30120 Rogues et Madières | J25: Hérault | K25: 1 | S25: 04 67 81 50 00 | U25: rogues30@wanadoo.fr | V25: Mercredi de 9h├á12h Jeudi de 14h ├á 17h30
A26: 114 | B26: 114 | C26: Mairie | D26: 751374.23 | E26: 6331548 | F26: 30339 | G26: VAL D'AIGOUAL | H26: M GAUTHIER Joël | I26: Mairie 1 place Francis Cavalier Benezet 30570 Valleraugue | J26: Hérault | L26: 1 | N26: 1 | S26: 04 67 81 79 60 | T26: 04 67 81 79 68 | U26: mairie@valdaigoual.fr | V26: Lundi au Mercredi 8h30-12h /13h30-17h30 Mardi et jeudi 8h30 ├á 12h Vendredi 8h30 ├á 12h et 13h30 ├á 17h
A27: 131 | B27: 131 | C27: Mairie | D27: 762791.32 | E27: 6334558.8 | F27: 30108 | G27: ESTRECHURE (L') | H27: Mme MACQUART Bernadette | I27: Mairie 30124 L'Estréchure | J27: Gardons | L27: 1 | R27: 1 | S27: 04 66 83 91 08 | U27: mairie.l-estrechure@wanadoo.fr | V27: Lundi au Mardi 13h30-17h15 Vendredi 8h30-12h15
A28: 138 | B28: 138 | C28: Mairie | D28: 741223.62 | E28: 6312816 | F28: 30040 | G28: BLANDAS | H28: M WELLER Marc | I28: Hôtel de ville 30770 Blandas | J28: Hérault | K28: 1 | S28: 04 67 81 51 23 | U28: commune-de-blandas@orange.fr | V28: Lundi, mardi et jeudi 14h-17h
A29: 142 | B29: 142 | C29: Mairie | D29: 769336.95 | E29: 6330453.3 | F29: 30246 | G29: SAINTE-CROIX-DE-CADERLE | H29: M MOURGUES Ludovic | I29: Le Village 30460 Sainte Croix de Caderle | J29: Gardons | K29: 1 | S29: 04 66 85 22 63 | U29: mairie-ste-croix30@wanadoo.fr | V29: Lundi 13h-16h Jeudi 14h-16h
A30: 155 | B30: 155 | C30: Mairie | D30: 768845.41 | E30: 6318860.3 | F30: 30263 | G30: SAINT-HIPPOLYTE-DU-FORT | H30: M OLIVIERI Bruno | I30: Place de la Mairie 30170 Saint Hippolyte du Fort | J30: Vidourle | L30: 1 | R30: 1 | S30: 04 66 77 22 24 | T30: 04 66 77 93 13 | U30: mairie.sthippo@wanadoo.fr | V30: Lundi au Jeudi 8h30- 12h / 14h30-17h30 Vendredi 8h30-12h / 14h30-16h30
A31: 159 | B31: 159 | C31: Mairie | D31: 746277.73 | E31: 6319753.1 | F31: 30170 | G31: MOLIERES-CAVAILLAC | H31: M CANAYER Roland | I31: Mairie 30120 Molières Cavaillac | J31: Hérault | K31: 1 | S31: 04 67 81 03 99 | T31: 04 67 81 70 20 | U31: mairie.molieres-cavaillac@wanadoo.fr | V31: Lundi au vendredi 10h-12h et 16h-18h
A32: 163 | B32: 164 | C32: Mairie | D32: 771081.92 | E32: 6322753 | F32: 30172 | G32: MONOBLET | H32: M CASTANON Philippe | I32: Mairie 30170 Monoblet | J32: Vidourle | K32: 1 | S32: 04 66 85 24 97 | U32: mairie@monoblet.org | V32: Lundi au Mardi 9h- 12h / 14h-18h Jeudi 9h /12h et de 14h-18h Vendredi 9h-12h / 14h-17h
A33: 168 | B33: 169 | C33: Mairie | D33: 772924.75 | E33: 6316811.5 | F33: 30093 | G33: CONQUEYRAC | H33: M DAUTHEVILLE Jacques | I33: Mairie 30170 Conqueyrac | J33: Vidourle | L33: 1 | R33: 1 | S33: 04 66 77 20 81 | U33: mairiedeconqueyrac@wanadoo.fr | V33: Mardi 9h-12h Jeudi 10h-12h Samedi 8h45-11h45
A34: 173 | B34: 174 | C34: Mairie | D34: 738200.32 | E34: 6335306.3 | F34: 30297 | G34: SAINT-SAUVEUR-CAMPRIEU | H34: Mme AMASSE Nicole | I34: Mairie 30750 Saint Sauveur Camprieu | J34: Tarn Dourbie | K34: 1 | S34: 04 67 82 60 26 | U34: saint-sauveur-camprieu@orange.fr | V34: Lundi au vendredi 8h-12h
A35: 180 | B35: 181 | C35: Mairie | D35: 776616.15 | E35: 6321607.8 | F35: 30106 | G35: DURFORT-ET-SAINT-MARTIN-DE-SOSSENAC | H35: M CONDOMINES Robert | I35: Chemin Neuf 30170 Durfort St Martin Sossenac | J35: Vidourle | K35: 1 | S35: 04 66 77 50 56 | U35: mairie.durfort@wanadoo.fr | V35: Lundi Mardi et Vendredi de 13h ├á 17h - Jeudi 8h30 ├á 12h et 13h ├á 18h30
A36: 181 | B36: 182 | C36: Mairie | D36: 757876.53 | E36: 6335486.9 | F36: 30198 | G36: PLANTIERS (LES) | H36: M MOUNIER Bernard | I36: Mairie 30122 Les Plantiers | J36: Gardons | K36: 1 | S36: 04 66 83 90 33 | T36: 04 66 83 95 62 | U36: mairie-plantiers@orange.fr | V36: Lundi, mardi, mercredi et vendredi 8h-12h
A37: 188 | B37: 189 | C37: Mairie | D37: 752706.59 | E37: 6314950.8 | F37: 30280 | G37: SAINT-LAURENT-LE-MINIER | H37: M BELTOISE Bruno | I37: Place Louis Serre 30440 Saint Laurent le Minier | J37: Hérault | L37: 1 | R37: 1 | S37: 04 67 73 85 10 | T37: 04 67 73 51 93 | U37: saintlaurentleminier@wanadoo.fr | V37: lundi 8 h - 12 h 14 h - 17 h mardi 8 h - 12 h 15 h 17 h mercredi 14 h - 17 h jeudi 8 h -12 h vendredi 7 h 30 - 11 h 30
A38: 195 | B38: 196 | C38: Mairie | D38: 750133.12 | E38: 6324795.3 | F38: 30154 | G38: MANDAGOUT | H38: M GRIEU Emmanuel | I38: Mairie 30120 Mandagout | J38: Hérault | K38: 1 | S38: 04 67 81 13 83 | T38: 04 67 81 04 94 | U38: mairie.mandagout@wanadoo.fr | V38: Lundi, jeudi, vendredi 9h-12h Mardi 9h-12h00 / 14h- 17h
A39: 202 | B39: 203 | C39: Mairie | D39: 774712.87 | E39: 6325345.9 | F39: 30252 | G39: SAINT-FELIX-DE-PALLIERES | H39: M SALA Michel | I39: Mairie 30140 Saint Félix de Pallières | J39: Gardons + Vidourle | K39: 1 | S39: 04 66 61 64 45 | U39: mairie.st.felix.pallieres@wanadoo.fr | V39: Lundi, jeudi 14h-18h Mardi, mercredi, vendredi 8h-12h
A40: 206 | B40: 207 | C40: Mairie | D40: 765996.88 | E40: 6325816.8 | F40: 30087 | G40: COLOGNAC | H40: M BRESSET Cyrille | I40: Le Village 30460 Colognac | J40: Gardons | K40: 1 | S40: 04 66 85 27 88 | U40: mairie.colognac@laposte.net | V40: Mardi, Jeudi 14h-16h Samedi 10h-12h
A41: 209 | B41: 210 | C41: Mairie | D41: 764878.46 | E41: 6317830.5 | F41: 30058 | G41: CADIERE-ET-CAMBO (LA) | H41: M LAGARDE Jean-Louis | I41: Mairie 30170 La Cadière et Cambo | J41: Vidourle | K41: 1 | S41: 04 66 77 23 94 | U41: commune.cadiere.cambo@orange.fr | V41: Mardi 14h-19h Jeudi 8h30-13h
A42: 210 | B42: 211 | C42: Mairie | D42: 747594.06 | E42: 6314446.1 | F42: 30176 | G42: MONTDARDIER | H42: M REDON Thierry | I42: Mairie 30120 Montdardier | J42: Hérault | K42: 1 | S42: 04 67 81 52 46 | U42: mairie.montdardier@laposte.net | V42: Mardi ou vendredi 14h-18h
A43: 221 | B43: 222 | C43: Mairie | D43: 782580.14 | E43: 6318021.7 | F43: 30150 | G43: LOGRIAN-FLORIAN | H43: M CASTELLVI Jean-Marie | I43: Mairie 30610 Logrian Florian | J43: Vidourle | K43: 1 | S43: 04 66 77 34 13 | U43: mairielogrian@orange.fr | V43: Mardi et jeudi 9h-12h, vendredi 13h30-16h30
A44: 233 | B44: 234 | C44: Mairie | D44: 775547.25 | E44: 6308638.6 | F44: 30095 | G44: CORCONNE | H44: M JEAN Lionel | I44: Place de la Mairie 30260 Corconne | J44: Vidourle | L44: 1 | O44: 1 | S44: 04 66 77 32 57 | T44: 04 66 77 19 58 | U44: corconne@wanadoo.fr | V44: lundi ┬û mardi ┬û jeudi- vendredi : 9h -12 h lundi ┬û jeudi : 16h-19h
A45: 239 | B45: 240 | C45: Mairie | D45: 742531 | E45: 6319418.1 | F45: 30038 | G45: BEZ-ET-ESPARON | H45: M CASTOR Romaric | I45: Mairie 30120 Bez et Esparon | J45: Hérault | K45: 1 | S45: 04 67 81 07 56 | T45: 04 67 81 73 18 | U45: mairie.bez.esparon@orange.fr | V45: Lundi au Vendredi : de 8h-12h
A46: 246 | B46: 247 | C46: Mairie | D46: 761057.7 | E46: 6335772.2 | F46: 30310 | G46: SAUMANE | H46: Mme ANGELI Laurette | I46: Mairie 30125 Saumane | J46: Gardons | L46: 1 | R46: 1 | S46: 04 66 83 91 42 | T46: 04 66 34 03 37 | U46: mairie.saumane@orange.fr | V46: Lundi et vendredi 13h30-17h30, jeudi 8h-12h
A47: 248 | B47: 249 | C47: Mairie | D47: 747845.25 | E47: 6324537 | F47: 30015 | G47: ARPHY | H47: M GABEL Jean-Pierre | I47: Mairie La Matte 30120 Arphy | J47: Hérault | L47: 1 | R47: 1 | S47: 04 67 81 15 50 | T47: 04 67 81 15 50 | U47: mairie.arphy@wanadoo.fr | V47: Lundi 14h-17h Jeudi 10h30-17h30
A48: 257 | B48: 258 | C48: Mairie | D48: 774164.56 | E48: 6322417.9 | F48: 30119 | G48: FRESSAC | H48: M MARTIN Laurent | I48: Place Michelin 30170 Fressac | J48: Vidourle | K48: 1 | S48: 04 66 77 57 86 | U48: mairie.fressac@laposte.net | V48: Jeudi 14h30-16h30
A49: 268 | B49: 269 | C49: Mairie | D49: 774251.88 | E49: 6329923.2 | F49: 30329 | G49: THOIRAS | H49: M ANDRE Lionel | I49: Le Puech 30140 Thoiras | J49: Gardons | K49: 1 | S49: 04 66 61 62 82 | T49: 04 66 61 62 82 | U49: thoiras30.mairie@wanadoo.fr | V49: Lundi, Mercredi et Vendredi de 14h ├á 17h Mardi et Jeudi de 9h ├á 12h
A50: 272 | B50: 273 | C50: Mairie | D50: 768788.32 | E50: 6310884.9 | F50: 30200 | G50: POMPIGNAN | H50: M FOUGAIROLLE Michel | I50: Mairie 30170 Pompignan | J50: Vidourle | K50: 1 | S50: 04 66 77 21 88 | T50: 04 66 77 92 01 | U50: mairie.de.pompignan@wanadoo.fr | V50: Lundi, jeudi 8h-12h Mardi 8h-12h / 13h30- 19h Mercredi 8h-12h / 13h30-17h Vendredi 13h30-16h
A51: 273 | B51: 274 | C51: Mairie | D51: 766194.17 | E51: 6322009.2 | F51: 30099 | G51: CROS | H51: M CLAVEL Christian | I51: Mairie 30170 Cros | J51: Vidourle | K51: 1 | S51: 04 66 77 24 70 | U51: communecros@wanadoo.fr | V51: Lundi 14h-18h Jeudi 15h-19h
A52: 279 | B52: 280 | C52: Mairie | D52: 776419.2 | E52: 6331221.5 | F52: 30094 | G52: CORBES | H52: Mme CRESPON-LHERISSON Monique | I52: Mairie 30140 Corbes | J52: Gardons | K52: 1 | S52: 09 32 02 34 16 | U52: mairie.corbes@orange.fr | V52: Mercredi, jeudi, vendredi 8h30-12h
A53: 282 | B53: 283 | C53: Mairie | D53: 754075.25 | E53: 6325676.8 | F53: 30229 | G53: SAINT-ANDRE-DE-MAJENCOULES | H53: M BOISSON Christophe | I53: Mairie Le Château 30570 Saint André de Majencoules | J53: Hérault | K53: 1 | S53: 04 67 82 40 33 | U53: mairie.saintandredemajencoules@wanadoo.fr | V53: Lundi, mardi 10h-15h Jeudi, vendredi 10h-15h
A54: 287 | B54: 288 | C54: Mairie | D54: 751801.2 | E54: 6317416.9 | F54: 30238 | G54: SAINT-BRESSON | H54: M DARLOT Patrick | I54: Mairie Le village 30440 Saint Bresson | J54: Hérault | K54: 1 | S54: 04 67 82 47 19 | T54: 04 67 83 06 53 | U54: mairie@saintbresson.net | V54: Lundi 9h30-11h30 et Jeudi 14h30-16h30
A55: 309 | B55: 310 | C55: Mairie | D55: 768433.79 | E55: 6327734.4 | F55: 30140 | G55: LASALLE | H55: M DE LATOUR Henri | I55: Place Jean Gazaix 30460 Lasalle | J55: Gardons | L55: 1 | R55: 1 | S55: 04 66 85 20 34 | T55: 04 66 85 49 34 | U55: mairielasalle@wanadoo.fr | V55: Lundi, mercredi, vendredi 8h-12h Mardi, jeudi 9h-12h
A56: 314 | B56: 315 | C56: Mairie | D56: 741757.54 | E56: 6318823.3 | F56: 30016 | G56: ARRE | H56: M MALET Stéphane | I56: Place de la Mairie 30120 Arre | J56: Hérault | K56: 1 | S56: 04 67 82 01 33 | T56: 04 67 82 00 29 | U56: commune.arre@wanadoo.fr | V56: Lundi, Mardi, jeudi, Vendredi 9h- 12h / 15h- 19h
A57: 315 | B57: 316 | C57: Mairie | D57: 762467.06 | E57: 6322966 | F57: 30296 | G57: SAINT-ROMAN-DE-CODIERES | H57: M VILLARET Luc | I57: Place de la Mairie 30440 Saint Roman de Codières | J57: Vidourle + Hérault | K57: 1 | S57: 04 67 81 30 50 | U57: mairiestroman@orange.fr | V57: Mardi et vendredi 14h-17h
A58: 319 | B58: 320 | C58: Mairie | D58: 779656.46 | E58: 6319571 | F58: 30265 | G58: SAINT-JEAN-DE-CRIEULON | H58: M CUENOT Jean-Louis | I58: Mairie 30610 Saint Jean de Crieulon | J58: Vidourle | K58: 1 | S58: 04 66 77 34 96 | T58: 04 66 77 43 04 | U58: mairiedestjeandecrieulon@wanadoo.fr | V58: Lundi et jeudi 15h-19h
A59: 320 | B59: 321 | C59: Mairie | D59: 758960.52 | E59: 6326534.7 | F59: 30283 | G59: SAINT-MARTIAL | H59: Mme JUTTEAU Françoise | I59: Mairie 30440 Saint Martial | J59: Hérault | K59: 1 | S59: 04 67 81 30 82 | U59: mairie.st-martial@laposte.net | V59: Lundi 9h-12h Jeudi, Vendredi 9h-12h
A60: 322 | B60: 323 | C60: Mairie | D60: 769492.98 | E60: 6326638.7 | F60: 30236 | G60: SAINT-BONNET-DE-SALENDRINQUE | H60: M MAGNY Sébastien | I60: Mairie La Chapelle 30460 Saint Bonnet de Salendrinque | J60: Gardons | K60: 1 | S60: 04 66 85 23 40 | U60: mairie.saintbonnet@orange.fr | V60: le mardi et le vendredi de 9h ├á 12h et de 14h ├á 17h
A61: 329 | B61: 330 | C61: Mairie | D61: 780352.42 | E61: 6312642.3 | F61: 30210 | G61: QUISSAC | H61: M CATHALA Serge | I61: 1 Place Charles Mourier 30260 Quissac | J61: Vidourle | L61: 1 | R61: 1 | S61: 04 66 77 30 02 | T61: 04 66 77 11 26 | U61: mairie@ville-quissac.fr | V61: Lundi, mardi, mercredi, vendredi 9h-12h /14h-17h Jeudi 9h-12h / 14h-18h
A62: 342 | B62: 343 | C62: Mairie | D62: 766676.39 | E62: 6335003.7 | F62: 30195 | G62: PEYROLES | H62: M ABBOU François | I62: Mairie 30124 Peyrolles | J62: Gardons | K62: 1 | S62: 04 66 85 13 01 | U62: peyrolles.mairie@wanadoo.fr | V62: Mardi et jeudi 10h-16h
A63: 345 | B63: 346 | C63: Mairie | D63: 748632.68 | E63: 6321728.4 | F63: 30350 | G63: VIGAN (LE) | H63: Mme ARNAL Sylvie | I63: Place Quatrefages B.P 41021 Laroquette 30120 Le Vigan | J63: Hérault | K63: 1 | S63: 04 67 81 66 12 | T63: 04 67 81 09 02 | U63: service.secretariat-general@levigan.fr | V63: Lundi au vendredi 8h30 - 12h00 / 15h - 17h30
A64: 340 | B64: 341 | C64: Mairie | D64: 730725.52 | E64: 6336949.1 | F64: 30139 | G64: LANUEJOLS | H64: M VIGNE Alexandre | I64: Mairie 30750 Lanuejols | J64: Tarn Dourbie | L64: 1 | R64: 1 | S64: 04 67 82 70 83 | T64: 04 67 82 73 90 | U64: mairielanuejols@wanadoo.fr | V64: Lundi, mardi, mercredi, vendredi 9h-12h Jeudi 9h-12h / 13h-17h
A65: 20 | B65: 20 | C65: Mairie | D65: 754641.01 | E65: 6339874 | F65: 30231 | G65: SAINT-ANDRE-DE-VALBORGNE | H65: M BOURELLY Régis | I65: Les Quais 30940 Saint André de Valborgne | J65: Gardons | L65: 1 | R65: 1 | S65: 04 66 60 30 08 | T65: 04 66 60 34 55 | U65: mairie.valborgne@wanadoo.fr | V65: Lundi au Vendredi 8h-12h / 13h30-17h30
A66: 24 | B66: 24 | C66: Mairie | D66: 780343.75 | E66: 6354726.8 | F66: 30345 | G66: VERNAREDE (LA) | H66: M MIAILLE Dominique | I66: Rue des Ecoles 30530 La Vernarède | J66: Cèze | K66: 1 | S66: 04 66 61 48 91 | U66: ville.lavernarede@wanadoo.fr | V66: Lundi au vendredi 8h- 12h / 14h-17h
A67: 25 | B67: 25 | C67: Mairie | D67: 781263.75 | E67: 6356467.5 | F67: 30079 | G67: CHAMBON | H67: M SASSO Marc | I67: Hôtel de Ville 30450 Le Chambon | J67: Cèze | L67: 1 | P67: 1 | S67: 04 66 61 47 92 | U67: mairie.chambon@laposte.net | V67: Lundi 13h30-16h30 Mardi 8h30-12h30 / 13h30-16h30 Vendredi 8h30-12h30 / 13h-16h30 Samedi 8h30-12h
A68: 36 | B68: 36 | C68: Mairie | D68: 776843.52 | E68: 6344519.5 | F68: 30137 | G68: LAMELOUZE | H68: Mme BARAFORT Laure | I68: Mairie 30110 Lamelouze | J68: Gardons | K68: 1 | S68: 04 66 34 06 77 | U68: mairie.lamelouze@laposte.net | V68: Mardi et jeudi 8h-12h
A69: 45 | B69: 45 | C69: Mairie | D69: 777503.5 | E69: 6339412.4 | F69: 30291 | G69: SAINT-PAUL-LA-COSTE | H69: M CHAPON Adrien | I69: 30480 Saint Paul La Coste | J69: Gardons | K69: 1 | S69: 04 66 30 64 49 | U69: mairie.saintpaullacoste@gmail.com | V69: Lundi, jeudi, vendredi 14h-18h
A70: 48 | B70: 48 | C70: Mairie | D70: 777957.3 | E70: 6350816.7 | F70: 30239 | G70: SAINTE-CECILE-D'ANDORGE | H70: M PEPIN Jacques | I70: Mairie 30110 Sainte Cécile d'Andorge | J70: Gardons | K70: 1 | S70: 04 66 54 81 26 | T70: 04 66 34 49 35 | U70: mairie.saintececile@nordnet.fr | V70: Lundi, mercredi, jeudi, vendredi 9h-11h45 Mardi 9h-11h45 / 14h-17h30
A71: 58 | B71: 58 | C71: Mairie | D71: 782647.66 | E71: 6345898.5 | F71: 30307 | G71: SALLES-DU-GARDON (LES) | H71: M BRIOUDES Georges | I71: Rue Jean Delpuech 30110 Les Salles du Gardon | J71: Gardons | K71: 1 | S71: 04 66 34 19 73 | T71: 04 66 34 24 07 | U71: mairie.sallesdugardon@wanadoo.fr | V71: lundi 9h ├á 12 h de 13h30 ├á 17h lundi au jeudi 8h ├á 12h de 13h30 ├á 17h vendredi 8h ├á 12h de 13h30 ├á 16h
A72: 150 | B72: 150 | C72: Mairie | D72: 782164.53 | E72: 6363755.3 | F72: 30044 | G72: BONNEVAUX | H72: Mme BOUSSAC Roseline | I72: Mairie 30450 Bonnevaux | J72: Cèze | K72: 1 | S72: 04 66 61 12 68 | T72: 04 66 61 25 07 | U72: mairie.bonnevaux@free.fr | V72: Mardi 10h-12h / 14h- 15h30 Vendredi 10h-12h / 14h-15h30
A73: 176 | B73: 177 | C73: Mairie | D73: 775751.59 | E73: 6361718.4 | F73: 30130 | G73: GENOLHAC | H73: M CHERON Guy | I73: Grand Rue 30450 Génolhac | J73: Cèze | K73: 1 | S73: 04 66 61 10 55 | T73: 04 66 61 12 69 | U73: contact@genolhac.fr | V73: Lundi au vendredi de 9h-12h / 14h-17h, samedi de 9h30 ├á 12h du 15 juin au 15 septembre
A74: 199 | B74: 200 | C74: Mairie | D74: 781528.86 | E74: 6352885.3 | F74: 30203 | G74: PORTES | H74: M SELLE François | I74: Rue de la Mairie 30530 Portes | J74: Cèze | K74: 1 | S74: 04 66 34 06 83 | T74: 04 66 34 19 21 | U74: mairie-portes@orange.fr | V74: Lundi, mardi, mercredi, jeudi, vendredi 9h-12h Mardi, jeudi 15h-18h
A75: 295 | B75: 296 | C75: Mairie | D75: 781873.83 | E75: 6359179 | F75: 30316 | G75: SENECHAS | H75: M MEURTIN René | I75: Place de la Mairie 30450 Sénéchas | J75: Cèze | K75: 1 | S75: 04 66 61 17 78 | T75: 04 66 61 17 78 | U75: mairie.senechas@wanadoo.fr | V75: Lundi, mercredi 8h-12h Mardi 14h-18h Jeudi 8h30-11h30 /13h30-17h30 Vendredi 8h30-11h30
A76: 311 | B76: 312 | C76: Mairie | D76: 780857.46 | E76: 6361526.1 | F76: 30022 | G76: AUJAC | H76: M PEYRIC Firmin | I76: Hôtel de Ville 30450 Aujac | J76: Cèze | K76: 1 | S76: 04 66 61 15 51 | T76: 04 66 61 15 51 | U76: mairie@aujac.fr | V76: Mardi et vendredi 9h-12h / 14h-17h
A77: 316 | B77: 317 | C77: Mairie | D77: 780913.92 | E77: 6342265.6 | F77: 30323 | G77: SOUSTELLE | H77: M RIBOT Georges | I77: Mairie 30110 Soustelle | J77: Gardons | K77: 1 | S77: 04 66 30 00 09 | T77: 04 66 56 97 70 | U77: mairie.soustelle@wanadoo.fr | V77: Mardi 14h-18h vendredi 9h-12h
A78: 317 | B78: 318 | C78: Mairie | D78: 782314.37 | E78: 6346307 | F78: 30132 | G78: GRAND-COMBE (LA) | H78: M MALAVIEILLE Patrick | I78: Mairie 30110 La Grand Combe_x000D_ | J78: Gardons | K78: 1 | S78: 04 66 54 68 68 | T78: 04 66 54 68 69 | U78: mairie@lagrandcombe.fr | V78: Lundi au Vendredi : de 8h-12h / 13h30-17h
A79: 321 | B79: 322 | C79: Mairie | D79: 777712.99 | E79: 6356570.6 | F79: 30080 | G79: CHAMBORIGAUD | H79: M CORBIER Emile | I79: Place de la Mairie 30530 Chamborigaud | J79: Cèze | K79: 1 | S79: 04 66 61 47 36 | T79: 04 66 61 51 00 | U79: contact@chamborigaud.com | V79: Lundi au Vendredi 8h-12h / 14h-18h Samedi 8h-12h
A80: 9 | B80: 9 | C80: Mairie | D80: 808262.33 | E80: 6337886.2 | F80: 30338 | G80: VALLERARGUES | H80: M EKEL Dominique | I80: Mairie Rue principale 30580 Vallérargues | J80: Cèze | K80: 1 | S80: 04 66 72 90 70 | U80: mairiedevallerargues@wanadoo.fr | V80: Lundi de 13h30 ├á 16h30 Mardi et jeudi de 9h ├á 12h et de 13h30 ├á 16h30 Vendredi de 9h ├á 12h
A81: 16 | B81: 16 | C81: Mairie | D81: 827255.41 | E81: 6350036.4 | F81: 30070 | G81: CARSAN | H81: Mme VANDEMEULEBROUCKE Brigitte | I81: Le Village 30130 Carsan | J81: Ardèche | K81: 1 | S81: 04 66 39 25 65 | T81: 04 66 39 24 24 | U81: mairie.carsan@wanadoo.fr | V81: Lundi au Jeudi 8h- 12h Vendredi 14h-18h
A82: 27 | B82: 27 | C82: Mairie | D82: 806348.34 | E82: 6343808.9 | F82: 30113 | G82: FONS-SUR-LUSSAN | H82: M GUIHERMET Jean-Bernard | I82: Mairie 30580 Fons sur Lussan | J82: Cèze | K82: 1 | S82: 04 66 72 94 69 | T82: 04 66 22 42 70 | U82: mairie.fonsurlussan@wanadoo.fr | V82: Lundi 14h-17h Mardi 14h-18h Vendredi 9h-12h
A83: 75 | B83: 75 | C83: Mairie | D83: 779601.1 | E83: 6334694.7 | F83: 30298 | G83: SAINT-SEBASTIEN-D'AIGREFEUILLE | H83: M MANIFACIER Guy | I83: Mairie 1 place de la mairie La Fabrègue 30140 Saint Sébastien d'Aigrefeuille | J83: Gardons | L83: 1 | R83: 1 | S83: 04 66 61 70 84 | U83: mairiedesaintsebastien@wanadoo.fr | V83: lundi et mardi 13 h 30 ├á 17 h 30 jeudi et vendredi de 8 h ├á 12 h et de 13 h 30 ├á 17 h 30
A84: 76 | B84: 76 | C84: Mairie | D84: 824172.45 | E84: 6357181 | F84: 30005 | G84: AIGUEZE | H84: M BASCLE Charles | I84: Place du Jeu de Pomme 30760 Aiguèze | J84: Ardèche | K84: 1 | S84: 04 66 82 14 77 | T84: 04 66 82 35 26 | U84: mairie.aigueze@wanadoo.fr | V84: Lundi au vendredi 10h-12h
A85: 38 | B85: 38 | C85: Mairie | D85: 786608.96 | E85: 6351012.5 | F85: 30159 | G85: MARTINET (LE) | H85: M MERCIER Michel | I85: Mairie 30960 Le Martinet | J85: Cèze | L85: 1 | P85: 1 | S85: 04 66 24 91 01 | T85: 04 66 24 96 96 | U85: mairie.lemartinet@wanadoo.fr | V85: Lundi au Jeudi 8h-12h / 13h30-17h Vendredi 8h-12h
A86: 50 | B86: 50 | C86: Mairie | D86: 788340.39 | E86: 6342409.7 | F86: 30274 | G86: SAINT-JULIEN-LES-ROSIERS | H86: M BORD Serge | I86: 376 avenue des Mimosas 30340 Saint Julien les Rosiers | J86: Gardons | K86: 1 | S86: 04 66 86 00 59 | T86: 04 66 86 83 00 | U86: mairie-les-rosiers@wanadoo.fr | V86: Lundi au Vendredi 8h30-12h / 13h30-17h Samedi 9h-12h
A87: 52 | B87: 52 | C87: Mairie | D87: 795655.21 | E87: 6340540.4 | F87: 30318 | G87: SERVAS | H87: M VARIN D'AINVELLE Roch | I87: Mairie Quartier de l'Olivier 30340 Servas | J87: Cèze | K87: 1 | S87: 04 66 83 77 77 | U87: mairie.servas@laposte.net | V87: Jeudi 9h-12h
A88: 54 | B88: 54 | C88: Mairie | D88: 791309.38 | E88: 6348855.1 | F88: 30268 | G88: SAINT-JEAN-DE-VALERISCLE | H88: Mme JUSTET Catherine | I88: Mairie 4 place Pierre Agniel 30960 Saint Jean de Valériscle | J88: Cèze | K88: 1 | S88: 04 66 25 60 41 | T88: 04 66 25 65 65 | U88: mairie.sjv@gmail.com | V88: Lundi-mardi-jeudi-vendredi de 8h30 ├á 12h30 Mercredi de 8h30 ├á 12h00
A89: 57 | B89: 57 | C89: Mairie | D89: 839251.32 | E89: 6319401 | F89: 30151 | G89: LUSSAN | H89: M FRANCOIS Jean-Marc | I89: Place du Château 30580 Lussan | J89: Cèze | K89: 1 | S89: 04 66 72 90 58 | U89: mairie-de-lussan@wanadoo.fr | V89: Lundi 9h-12h /14h-17h. Mardi jeudi, vendredi 9h-12h┬á
A90: 60 | B90: 60 | C90: Mairie | D90: 791770.9 | E90: 6343233.2 | F90: 30223 | G90: ROUSSON | H90: M CHASSARY Ghislain | I90: Hôtel de ville 30340 Rousson | J90: Gardons | K90: 1 | S90: 04 66 85 60 42 | T90: 04 66 85 84 64 | U90: contact@mairie-rousson.com | V90: Lundi au Vendredi 8h-12h / 13h30-17h30 Samedi 11h-12h
A91: 64 | B91: 64 | C91: Mairie | D91: 800102.82 | E91: 6349182.6 | F91: 30247 | G91: SAINT-DENIS | H91: Mme MOLIERES Sylvette | I91: Place de la Mairie 30500 Saint Denis | J91: Cèze | K91: 1 | S91: 04 66 24 22 78 | T91: 04 66 60 22 30 | U91: mairie.st-denis@laposte.net | V91: Lundi et vendredi 9h- 12h30 Mardi 13h-16 h Mercredi 14h30-18h30 Jeudi 8h30 ├á 12h
A92: 72 | B92: 72 | C92: Mairie | D92: 807446.51 | E92: 6357503 | F92: 30029 | G92: BARJAC | H92: M CHAULET Edouard | I92: BP 26 30430 Barjac | J92: Cèze | K92: 1 | S92: 04 66 24 50 09 | T92: 04 66 24 54 36 | U92: mairie.barjac@wanadoo.fr | V92: Lundi au jeudi 8h- 12h / 14h-18h Vendredi 8h-12h / 14h-16h30
A93: 91 | B93: 91 | C93: Mairie | D93: 788740.93 | E93: 6349806.8 | F93: 30253 | G93: SAINT-FLORENT-SUR-AUZONNET | H93: M BEAUCLAIR Jean-Pierre | I93: Mairie 30960 Saint Florent sur Auzonnet | J93: Cèze | K93: 1 | S93: 04 66 25 61 72 | T93: 04 66 25 72 18 | U93: contact@mairiesfsa.fr | V93: Lundi au vendredi 9h-12h et 13h30-16h30
A94: 95 | B94: 95 | C94: Mairie | D94: 786702.24 | E94: 6353916.5 | F94: 30216 | G94: ROBIAC-ROCHESSADOULE | H94: M CHALVIDAN Henri | I94: Hôtel de Ville 30160 Robiac-Rochessadoule | J94: Cèze | K94: 1 | S94: 04 66 25 00 81 | T94: 04 66 25 20 15 | U94: robiac-rochessadoule@wanadoo.fr | V94: Lundi au Vendredi : 8h30-12h /13h30- 17h
A95: 105 | B95: 105 | C95: Mairie | D95: 808337.66 | E95: 6354919 | F95: 30293 | G95: SAINT-PRIVAT-DE-CHAMPCLOS | H95: M FLANDIN Jean-François | I95: Mairie Place de la paix 30430 Saint Privat de Champclos | J95: Cèze | K95: 1 | S95: 04 66 24 50 75 | T95: 04 66 60 25 42 | U95: mairie.stprivatdechampclos@wanadoo.fr | V95: Lundi au vendredi de 13h ├á 17h
A96: 107 | B96: 107 | C96: Mairie | D96: 792789.44 | E96: 6341579.9 | F96: 30305 | G96: SALINDRES | H96: M COMTE Yves | I96: Place de l'église 30340 Salindres | J96: Gardons | L96: 1 | P96: 1 | S96: 04 66 85 60 13 | T96: 04 66 85 81 79 | U96: accueil@mairie-salindres.fr | V96: Lundi au Vendredi 8h30-12h / 13h-16h30
A97: 124 | B97: 124 | C97: Mairie | D97: 799132.03 | E97: 6341103.6 | F97: 30187 | G97: NAVACELLES | H97: M CLEMENCON Bruno | I97: Mairie 30580 Navacelles | J97: Cèze | K97: 1 | S97: 04 66 83 19 82 | U97: mairie.navacelles@orange.fr | V97: Lundi 13h30-17h Mardi 14h-18h Vendredi 8h-12h
A98: 134 | B98: 134 | C98: Mairie | D98: 790089.02 | E98: 6357149.9 | F98: 30120 | G98: GAGNIERES | H98: M MARTIN Olivier | I98: Place de la Mairie 30160 Gagnières | J98: Cèze | K98: 1 | S98: 04 66 25 02 02 | T98: 04 66 25 02 58 | U98: mairie.gagnieres@laposte.net | V98: Lundi 8h-12h / 13h30- 18h30 Mardi, jeudi 8h-12h Mercredi 8h-12h / 13h30-16h30 Vendredi 8h-12h / 13h30-17h30
A99: 136 | B99: 136 | C99: Mairie | D99: 803151.3 | E99: 6340893.1 | F99: 30048 | G99: BOUQUET | H99: Mme FERRIERE Catherine | I99: Le Puech 30580 Bouquet | J99: Cèze | K99: 1 | S99: 04 66 72 94 86 | T99: 04 66 72 99 74 | U99: mairie.bouquet@wanadoo.fr | V99: Mardi, jeudi 8h-12h Mercredi 8h-12h
A100: 139 | B100: 139 | C100: Mairie | D100: 795771.32 | E100: 6353853.9 | F100: 30237 | G100: SAINT-BRES | H100: M CHARPENTIER Jean-Pierre | I100: 254 Chemin de la Filature 30500 Saint Brès | J100: Cèze | L100: 1 | O100: 1 | S100: 04 66 24 01 25 | T100: 04 66 24 38 61 | U100: mairiestbres@gmail.com | V100: Lundi, mardi, jeudi, vendredi de 16h00 ├á 18h00 Mercredi 10h-11h30
...

Sheet services
A1: ogc_fid | B1: id | C1: insee | D1: type | E1: nom | F1: adresse | G1: cp | H1: ville | I1: BV | J1: Hors ZI | K1: En ZI | L1: TF | M1: F | N1: M | O1: Rés | P1: Ruis | Q1: Indif | R1: tel | S1: courriel | T1: effectif | U1: x_l93 | V1: y_l93
A2: 1 | B2: 22 | C2: 30133 | D2: Police municipale | E2: POLICE MUNICIPALE LE GRAU DU ROI | F2: 1 place de la Libération | G2: 30240 | H2: GRAU DU ROI (LE) | I2: Rhône + Vidourle | K2: 1 | Q2: 1 | R2: 04 66 73 94 22 | T2: 0 | U2: 792021.38 | V2: 6271155.9
A3: 2 | B3: 23 | C3: 30141 | D3: Police municipale | E3: POLICE MUNICIPALE LAUDUN L'ARDOISE | F3: Place Résistance | G3: 30290 | H3: LAUDUN L'ARDOISE | I3: Cèze + Rhône | K3: 1 | M3: 1 | R3: 04 66 50 55 60 | S3: pm@laudunlardoise.fr | T3: 0 | U3: 836236.38 | V3: 6334431.9
A4: 3 | B4: 24 | C4: 30155 | D4: Police municipale | E4: POLICE MUNICIPALE MANDUEL | F4: 2 bis rue de Saint Gilles | G4: 30129 | H4: MANDUEL | I4: Vistre | K4: 1 | O4: 1 | R4: 04 66 20 60 22 | T4: 0 | U4: 818259.37 | V4: 6303155.7
A5: 4 | B5: 25 | C5: 30156 | D5: Police municipale | E5: POLICE MUNICIPALE MARGUERITTES | F5: 2 rue Georges Taillefer | G5: 30320 | H5: MARGUERITTES | I5: Vistre | J5: 1 | R5: 04 66 59 58 58 | T5: 5 | U5: 816106.77 | V5: 6307819
A6: 5 | B6: 26 | C6: 30169 | D6: Police municipale | E6: POLICE MUNICIPALE MILHAUD | F6: 1 rue Pierre Guérin | G6: 30540 | H6: MILHAUD | I6: Vistre | J6: 1 | R6: 04 66 74 36 95 | S6: police.municipale@ville-milhaud.fr | T6: 0 | U6: 805351.88 | V6: 6299838
A7: 6 | B7: 27 | C7: 30171 | D7: Police municipale | E7: POLICE MUNICIPALE MOLIERES SUR CEZE | F7: Rue de la Cèze | G7: 30410 | H7: MOLIERES SUR CEZE | I7: Cèze | K7: 1 | M7: 1 | R7: 04 66 24 66 23 | T7: 0 | U7: 792479.34 | V7: 6352007.2
A8: 7 | B8: 28 | C8: 30179 | D8: Police municipale | E8: POLICE MUNICIPALE MONTFRIN | F8: 5 avenue Pierre Mendès France | G8: 30490 | H8: MONTFRIN | I8: Gardons + Rhône | K8: 1 | N8: 1 | R8: 04 66 57 39 63 | S8: pm.montfrin@orange.fr | T8: 3 | U8: 827992.76 | V8: 6309913.7
A9: 8 | B9: 29 | C9: 30189 | D9: Police municipale | E9: POLICE MUNICIPALE NIMES POSTE CENTRAL | F9: Immeuble Axiome 150 rue Louis Landi | G9: 30900 | H9: NIMES | I9: Vistre | K9: 1 | N9: 1 | R9: 04 66 02 56 00 | T9: 149 | U9: 809110.05 | V9: 6303168.2
A10: 9 | B10: 30 | C10: 30189 | D10: Police municipale | E10: POLICE MUNICIPALE NIMES POSTE SECTEUR CENTRE VILLE | F10: 9 rue Rangueil | G10: 30900 | H10: NIMES | I10: Vistre | K10: 1 | N10: 1 | R10: 04 66 67 42 66 | T10: 0 | U10: 809499.74 | V10: 6305624.2
A11: 10 | B11: 31 | C11: 30189 | D11: Police municipale | E11: POLICE MUNICIPALE NIMES POSTE SECTEUR OUEST ST CESAIRE | F11: 263, Avenue du Maréchal Joffre | G11: 30900 | H11: NIMES | I11: Vistre | K11: 1 | O11: 1 | T11: 0 | U11: 806238.91 | V11: 6302711.8
A12: 11 | B12: 32 | C12: 30189 | D12: Police municipale | E12: POLICE MUNICIPALE NIMES POSTE SECTEUR EST MAS DE VILLE | F12: 492, chemin du Pont des Isles, Stade Kaufmann | G12: 30900 | H12: NIMES | I12: Vistre | K12: 1 | N12: 1 | T12: 0 | U12: 811707.64 | V12: 6304560.1
A13: 12 | B13: 33 | C13: 30189 | D13: Police nationale | E13: HOTEL DE POLICE DE NIMES | F13: 245 avenue Pierre Gamel | G13: 30000 | H13: NIMES | I13: Vistre | K13: 1 | M13: 1 | R13: 04 66 27 30 00 | T13: 0 | U13: 809515.6 | V13: 6304035.6
A14: 13 | B14: 34 | C14: 30189 | D14: Police nationale | E14: COMMISSARIAT EST NIMES | F14: 329 avenue Bir Hakeim | G14: 30000 | H14: NIMES | I14: Vistre | K14: 1 | N14: 1 | R14: 04 66 26 67 59 | T14: 0 | U14: 811462.48 | V14: 6305789.8
A15: 14 | B15: 35 | C15: 30189 | D15: Police nationale | E15: COMMISSARIAT OUEST NIMES | F15: 4 promenade Newton | G15: 30900 | H15: NIMES | I15: Vistre | J15: 1 | R15: 04 66 64 28 27 | T15: 0 | U15: 806950.44 | V15: 6304435.8
A16: 15 | B16: 36 | C16: 30189 | D16: Police nationale | E16: ECOLE NATIONALE DE POLICE | F16: 286 avenue Clément Ader | G16: 30000 | H16: NIMES | I16: Vistre | K16: 1 | L16: 1 | R16: 04 66 28 31 00 | T16: 0 | U16: 812937.55 | V16: 6307580.5
A17: 16 | B17: 37 | C17: 30189 | D17: Police nationale | E17: CENTRE DE RETENTION ADMINISTRATIF | F17: 286 avenue Clément Ader | G17: 30000 | H17: NIMES | I17: Vistre | K17: 1 | L17: 1 | R17: 04 66 27 34 00 | T17: 0 | U17: 812935.46 | V17: 6307590.4
A18: 17 | B18: 38 | C18: 30202 | D18: Police municipale | E18: POLICE MUNICIPALE PONT SAINT ESPRIT | F18: Boulevard Gambetta | G18: 30130 | H18: PONT SAINT ESPRIT | I18: Rhône + Ardèche | J18: 1 | R18: 04 66 39 65 60 | T18: 0 | U18: 831555.83 | V18: 6352062.1
A19: 18 | B19: 39 | C19: 30206 | D19: Police municipale | E19: POLICE MUNICIPALE POULX | F19: Place de l'hôtel de Ville | G19: 30320 | H19: POULX | I19: Gardons | J19: 1 | R19: 04 66 75 59 20 | T19: 0 | U19: 814387.72 | V19: 6313499.5
A20: 19 | B20: 40 | C20: 30209 | D20: Police municipale | E20: POLICE MUNICIPALE PUJAUT | F20: Place de la Poste | G20: 30131 | H20: PUJAUT | I20: Rhône | J20: 1 | R20: 06 09 52 65 77 | T20: 2 | U20: 842414.54 | V20: 6324444
A21: 20 | B21: 41 | C21: 30210 | D21: Police municipale | E21: POLICE MUNICIPALE QUISSAC | F21: Place du Serret passage Monbounoux | G21: 30260 | H21: QUISSAC | I21: Vidourle | J21: 1 | R21: 04 66 35 46 13 | S21: policedequissac@orange.fr | T21: 3 | U21: 780321.19 | V21: 6312886.7
A22: 21 | B22: 42 | C22: 30211 | D22: Police municipale | E22: POLICE MUNICIPALE REDESSAN | F22: 13 avenue de la République | G22: 30129 | H22: REDESSAN | I22: Vistre | J22: 1 | R22: 04 66 20 52 47 | T22: 0 | U22: 820356.23 | V22: 6304801.2
A23: 22 | B23: 43 | C23: 30212 | D23: Police intercommunale | E23: POLICE COMMUNAUTE DE COMMUNES DU PONT DU GARD | F23: 1 rue des Ecoles | G23: 30210 | H23: REMOULINS | I23: Gardons | K23: 1 | N23: 1 | R23: 06 37 65 44 27 | T23: 0 | U23: 825521.41 | V23: 6316808.2
A24: 23 | B24: 44 | C24: 30217 | D24: Police municipale | E24: POLICE MUNICIPALE RO0CHEFORT DU GARD | F24: Place du lavoir | G24: 30650 | H24: ROCHEFORT DU GARD | I24: Rhône | J24: 1 | R24: 04 90 26 69 03 | S24: police.municipale@ville-rochefortdugard.fr | T24: 0 | U24: 835635.69 | V24: 6320988.9
A25: 24 | B25: 45 | C25: 30221 | D25: Police municipale | E25: POLICE MUNICIPALE ROQUEMAURE | F25: Place de la Mairie | G25: 30150 | H25: ROQUEMAURE | I25: Rhône | K25: 1 | Q25: 1 | R25: 04 66 90 54 26 | T25: 0 | U25: 842527.23 | V25: 6329731.8
A26: 25 | B26: 46 | C26: 30227 | D26: Police municipale | E26: POLICE MUNICIPALE SAINT AMBROIX | F26: Boulevard Portalet | G26: 30500 | H26: SAINT AMBROIX | I26: Cèze | J26: 1 | R26: 04 66 25 47 27 | T26: 0 | U26: 795527.55 | V26: 6351956.5
A27: 26 | B27: 47 | C27: 30243 | D27: Police municipale | E27: POLICE MUNICIPALE SAINT CHRISTOL LES ALES | F27: 94 av Jean Moulin | G27: 30380 | H27: SAINT CHRISTOL LES ALES | I27: Gardons | J27: 1 | R27: 04 66 60 90 31 | T27: 0 | U27: 786266.28 | V27: 6332154.2
A28: 27 | B28: 48 | C28: 30243 | D28: Police nationale | E28: BUREAU DE POLICE SAINT CHRISTOL | F28: 76 avenue Jean Moulin | G28: 30380 | H28: SAINT CHRISTOL LES ALES | I28: Gardons | J28: 1 | R28: 06 27 75 02 82 | T28: 0 | U28: 786260.93 | V28: 6332178.6
A29: 28 | B29: 49 | C29: 30255 | D29: Police municipale | E29: POLICE MUNICIPALE SAINT GENIES DE MALGOIRES | F29: 24 les Boulevards | G29: 30190 | H29: SAINT GENIES DE MALGOIRES | I29: Gardons | J29: 1 | R29: 06 72 36 91 32 | T29: 5 | U29: 797680.24 | V29: 6316958.1
A30: 29 | B30: 50 | C30: 30258 | D30: Police municipale | E30: POLICE MUNICIPALE SAINT GILLES | F30: 4 rue Victor Hugo | G30: 30800 | H30: SAINT GILLES | I30: Rhône | J30: 1 | R30: 04 66 87 31 44 | T30: 0 | U30: 815435.5 | V30: 6287371.6
A31: 30 | B31: 51 | C31: 30269 | D31: Police municipale | E31: POLICE MUNICIPALE SAINT JEAN DU GARD | F31: Avenue René Boudon | G31: 30270 | H31: SAINT JEAN DU GARD | I31: Gardons | K31: 1 | Q31: 1 | R31: 04 66 85 13 41 | T31: 0 | U31: 770848.36 | V31: 6334449.2
A32: 31 | B32: 52 | C32: 30276 | D32: Police municipale | E32: POLICE MUNICIPALE SAINT LAURENT D'AIGOUZE | F32: Rue Henry Mery | G32: 30220 | H32: SAINT LAURENT D'AIGOUZE | I32: Vidourle + Vistre + Rhône | K32: 1 | O32: 1 | R32: 04 66 88 11 99 | S32: police@mairiesldaigouze.fr | T32: 0 | U32: 796508.31 | V32: 6282385.2
A33: 32 | B33: 53 | C33: 30295 | D33: Police municipale | E33: POLICE MUNICIPALE SAINT QUENTIN | F33: 6 place Belle Croix | G33: 30700 | H33: SAINT QUENTIN LA POTERIE | I33: Gardons | J33: 1 | R33: 04 66 37 30 59 | T33: 0 | U33: 815496.25 | V33: 6328531.5
A34: 33 | B34: 54 | C34: 30312 | D34: Police municipale | E34: POLICE MUNICIPALE SAUVETERRE | F34: 155 avenue Languedoc | G34: 30150 | H34: SAUVETERRE | I34: Rhône | J34: 1 | R34: 04 66 82 87 94 | T34: 0 | U34: 843789.8 | V34: 6326725.7
A35: 34 | B35: 55 | C35: 30321 | D35: Police municipale | E35: POLICE MUNICIPALE SOMMIERES | F35: 5 Rue Abbé Fabre - Espace Jules Ferry | G35: 30250 | H35: SOMMIERES | I35: Vidourle | K35: 1 | M35: 1 | R35: 04 66 80 43 80 | S35: police@sommieres.fr | T35: 0 | U35: 787631.29 | V35: 6298962.4
A36: 35 | B36: 56 | C36: 30334 | D36: Police intercommunale | E36: POLICE INTERCOMMUNALE PAYS UZES | F36: 1 place du Duché | G36: 30700 | H36: UZES | I36: Gardons | J36: 1 | R36: 04 66 02 09 28 | T36: 8 | U36: 813879.94 | V36: 6324832.4
A37: 36 | B37: 57 | C37: 30334 | D37: Police municipale | E37: POLICE MUNICIPALE UZES | F37: 1 place du Duché | G37: 30700 | H37: UZES | I37: Gardons | J37: 1 | R37: 04 66 03 48 40 | T37: 0 | U37: 813882.61 | V37: 6324832.1
A38: 37 | B38: 58 | C38: 30341 | D38: Police municipale | E38: POLICE MUNICIPALE VAUVERT | F38: 2 rue des Casernes | G38: 30600 | H38: VAUVERT | I38: Vistre | J38: 1 | R38: 04 66 73 10 80 | S38: police-municipale@vauvert.com | T38: 0 | U38: 802893.09 | V38: 6288922.1
A39: 38 | B39: 59 | C39: 30344 | D39: Police municipale | E39: POLICE MUNICIPALE VERGEZE | F39: 1 rue Basse | G39: 30310 | H39: VERGEZE | I39: Vistre | J39: 1 | R39: 04 66 35 25 31 | T39: 0 | U39: 798333.38 | V39: 6294587.1
A40: 39 | B40: 60 | C40: 30351 | D40: Police municipale | E40: POLICE MUNICIPALE VILLENEUVE LES AVIGNON | F40: Allée Pierre-Louis Loisil | G40: 30400 | H40: VILLENEUVE LES AVIGNON | I40: Rhône | K40: 1 | Q40: 1 | R40: 04 90 25 90 15 | T40: 0 | U40: 844012.56 | V40: 6320403.8
A41: 40 | B41: 61 | C41: 30351 | D41: Police nationale | E41: COMMISSARIAT LES ANGLES -VILLENEUVE LES AVIGNON | F41: Rue du Bout de la Ville | G41: 30400 | H41: VILLENEUVE LES AVIGNON | I41: Rhône | K41: 1 | Q41: 1 | R41: 04 90 15 12 00 | T41: 0 | U41: 844032.69 | V41: 6320383.2
A42: 41 | B42: 62 | C42: 30356 | D42: Police municipale | E42: POLICE MUNICIPALE RODILHAN | F42: Place de la Mairie | G42: 30230 | H42: RODILHAN | I42: Vistre | K42: 1 | N42: 1 | R42: 04 66 81 83 69 | T42: 0 | U42: 815151.04 | V42: 6304062.4
A43: 42 | B43: 662599 | C43: 30334 | D43: Pompiers - Centre d'intervention et de secours | E43: CIS UZES | F43: Route de Saint-Ambroix | G43: 30700 | H43: UZES | I43: Gardons | J43: 1 | R43: 04 66 03 24 55 | S43: uzs-cdc@sdis30.fr | T43: 92 | U43: 813448.19 | V43: 6325547.5
A44: 43 | B44: 662600 | C44: 30221 | D44: Pompiers - Centre d'intervention et de secours | E44: CIS ROQUEMAURE | F44: Rue Carnot | G44: 30150 | H44: ROQUEMAURE | I44: Rhône | K44: 1 | Q44: 1 | R44: 04 66 39 61 18 | S44: roq-cdc@sdis30.fr | T44: 73 | U44: 842413.13 | V44: 6329575
A45: 44 | B45: 662601 | C45: 30007 | D45: Pompiers - Centre d'intervention et de secours | E45: CIS ALES | F45: 42 avenue Vincent d'Indy | G45: 30100 | H45: ALES | I45: Gardons | J45: 1 | R45: 04 66 54 25 18 | S45: als-cdc@sdis30.fr | T45: 214 | U45: 788268.31 | V45: 6337960.5
A46: 45 | B46: 662602 | C46: 30189 | D46: Pompiers - Centre d'intervention et de secours | E46: CIS NIMES | F46: 70 Boulevard Sergent Triaire | G46: 30000 | H46: NIMES | I46: Vistre | K46: 1 | L46: 1 | R46: 04 66 02 66 00 | S46: nim-cdc@sdis30.fr | T46: 269 | U46: 809059.63 | V46: 6303951.5
A47: 46 | B47: 662603 | C47: 30350 | D47: Pompiers - Centre d'intervention et de secours | E47: CIS LE VIGAN | F47: 484, Route du Pont de la Croix | G47: 30120 | H47: VIGAN (LE) | I47: Hérault | K47: 1 | Q47: 1 | R47: 04 67 81 64 55 | S47: vig-cdc@sdis30.fr | T47: 76 | U47: 749615.75 | V47: 6321498
A48: 47 | B48: 662604 | C48: 30321 | D48: Pompiers - Centre d'intervention et de secours | E48: CIS SOMMIERES | F48: 4 ter, Avenue Raoul Gaussen | G48: 30250 | H48: SOMMIERES | I48: Vidourle | K48: 1 | M48: 1 | R48: 04 66 80 88 55 | S48: som-cdc@sdis30.fr | T48: 92 | U48: 787704.19 | V48: 6299421.5
A49: 48 | B49: 662605 | C49: 30130 | D49: Pompiers - Centre d'intervention et de secours | E49: CIS GENOLHAC | F49: Avenue de la Libération | G49: 30450 | H49: GENOLHAC | I49: Cèze | J49: 1 | R49: 04 66 54 27 27 | S49: gen-cdc@sdis30.fr | T49: 48 | U49: 775863.44 | V49: 6362005.5
A50: 49 | B50: 662606 | C50: 30116 | D50: Pompiers - Centre d'intervention et de secours | E50: CIS FOURNES | F50: Chemin Départemental 192 Quartier la P | G50: 30210 | H50: FOURNES | I50: Gardons | J50: 1 | R50: 04 66 03 37 17 | S50: fou-cdc@sdis30.fr | T50: 81 | U50: 828013.81 | V50: 6316231
A51: 50 | B51: 662607 | C51: 30344 | D51: Pompiers - Centre d'intervention et de secours | E51: CIS VERGEZE | F51: Rue Droite | G51: 30310 | H51: VERGEZE | I51: Vistre | K51: 1 | N51: 1 | R51: 04 66 35 80 40 | S51: ver-cdc@sdis30.fr | T51: 63 | U51: 798219.5 | V51: 6293688.5
A52: 51 | B52: 662608 | C52: 30139 | D52: Pompiers - Centre d'intervention et de secours | E52: CIS LANUEJOLS | F52: ham Montjardin | G52: 30750 | H52: LANUEJOLS | I52: Tarn Dourbie | K52: 1 | Q52: 1 | R52: 04 67 73 02 75 | S52: lan-cdc@sdis30.fr | T52: 23 | U52: 730659.69 | V52: 6336818.5
A53: 52 | B53: 662609 | C53: 30029 | D53: Pompiers - Centre d'intervention et de secours | E53: CIS BARJAC | F53: Font Malliague | G53: 30430 | H53: BARJAC | I53: Cèze | J53: 1 | R53: 04 66 60 27 27 | S53: bar-cdc@sdis30.fr | T53: 43 | U53: 808120.06 | V53: 6357182
A54: 53 | B54: 662610 | C54: 30341 | D54: Pompiers - Centre d'intervention et de secours | E54: CIS VAUVERT | F54: Avenue Robert Gourdon | G54: 30600 | H54: VAUVERT | I54: Vistre | K54: 1 | N54: 1 | R54: 04 66 73 19 19 | S54: vau-cdc@sdis30.fr | T54: 115 | U54: 802621.06 | V54: 6289712
A55: 54 | B55: 662611 | C55: 30156 | D55: Pompiers - Centre d'intervention et de secours | E55: CIS MARGUERITTES | F55: 300 Allée Jacques Cartier | G55: 30320 | H55: MARGUERITTES | I55: Vistre | K55: 1 | N55: 1 | R55: 04 66 75 75 40 | S55: mar-cdc@sdis30.fr | T55: 99 | U55: 816115.02 | V55: 6309054.6
A56: 55 | B56: 662612 | C56: 30258 | D56: Pompiers - Centre d'intervention et de secours | E56: CIS SAINT-GILLES | F56: 200 Chemin Coupo Santo | G56: 30800 | H56: SAINT GILLES | I56: Rhône | K56: 1 | M56: 1 | R56: 04 66 87 77 00 | S56: gil-cdc@sdis30.fr | T56: 98 | U56: 814876.88 | V56: 6288144.5
A57: 56 | B57: 662613 | C57: 30325 | D57: Pompiers - Centre d'intervention et de secours | E57: CIS SUMENE | F57: Avenue de la gare | G57: 30440 | H57: SUMENE | I57: Hérault | J57: 1 | R57: 04 67 81 79 55 | S57: sum-cdc@sdis30.fr | T57: 29 | U57: 757658.44 | V57: 6320417
A58: 57 | B58: 662614 | C58: 30189 | D58: Pompiers - Centre d'intervention et de secours | E58: CTA CODIS | F58: 982 Avenue Joliot-Curie | G58: 30900 | H58: NIMES | I58: Vistre | K58: 1 | N58: 1 | R58: 04 66 63 37 33 | S58: codis-ctau-cdg@sdis30.fr | T58: 27 | U58: 805694.94 | V58: 6301938
A59: 58 | B59: 662615 | C59: 30133 | D59: Pompiers - Centre d'intervention et de secours | E59: CIS TERRE-DE-CAMARGUE | F59: Route de l'Espiguette | G59: 30240 | H59: GRAU DU ROI (LE) | I59: Rhône + Vidourle | K59: 1 | Q59: 1 | R59: 04 66 51 18 18 | S59: tdc-cdc@sdis30.fr | T59: 97 | U59: 793065.81 | V59: 6270292
A60: 59 | B60: 662617 | C60: 30164 | D60: Pompiers - Centre d'intervention et de secours | E60: CIS MEJANNES-LE-CLAP | F60: Le Village | G60: 30430 | H60: MEJANNES-LE-CLAP | I60: Cèze | J60: 1 | R60: 04 66 60 27 77 | S60: mlc-cdc@sdis30.fr | T60: 54 | U60: 807791.88 | V60: 6347607.5
A61: 60 | B61: 662618 | C61: 30263 | D61: Pompiers - Centre d'intervention et de secours | E61: CIS SAINT-HIPPOLITE-DU-FORT | F61: ZAC les Batailles | G61: 30170 | H61: SAINT HIPPOLYTE DU FORT | I61: Vidourle | J61: 1 | R61: 04 66 77 97 66 | S61: shf-cdc@sdis30.fr | T61: 70 | U61: 770089.49 | V61: 6317135.2
A62: 62 | B62: 662620 | C62: 30132 | D62: Pompiers - Centre d'intervention et de secours | E62: CIS LA GRAND-COMBE | F62: Vallée Ricard | G62: 30110 | H62: GRAND COMBE (LA) | I62: Gardons | K62: 1 | M62: 1 | R62: 04 66 54 28 18 | S62: lgc-cdc@sdis30.fr | T62: 73 | U62: 782509.75 | V62: 6346835.5
A63: 63 | B63: 662621 | C63: 30028 | D63: Pompiers - Centre d'intervention et de secours | E63: CIS BAGNOLS-SUR-CEZE | F63: Zone de Bernon - Route Michel Ledrappi | G63: 30200 | H63: TRESQUES | I63: Cèze | J63: 1 | R63: 04 66 90 43 43 | S63: bsc-cdc@sdis30.fr | T63: 123 | U63: 829059.64 | V63: 6336273.9
A64: 64 | B64: 662623 | C64: 30269 | D64: Pompiers - Centre d'intervention et de secours | E64: CIS SAINT-JEAN-DU-GARD | F64: Quartier La Glacière | G64: 30270 | H64: SAINT JEAN DU GARD | I64: Gardons | K64: 1 | Q64: 1 | R64: 04 66 54 26 18 | S64: sjg-cdc@sdis30.fr | T64: 59 | U64: 771704.13 | V64: 6333968
A65: 65 | B65: 662624 | C65: 30255 | D65: Pompiers - Centre d'intervention et de secours | E65: CIS SAINT-GENIES-DE-MALGLOIRES | F65: 8 Quartier les Arnèdes | G65: 30190 | H65: SAINT GENIES DE MALGOIRES | I65: Gardons | J65: 1 | R65: 04 66 81 98 64 | S65: sgm-cdc@sdis30.fr | T65: 69 | U65: 798504.89 | V65: 6316918
A66: 66 | B66: 662625 | C66: 30297 | D66: Pompiers - Centre d'intervention et de secours | E66: CIS SAINT-SAUVEUR-CAMPRIEU | F66: Rue du ruisseau | G66: 30750 | H66: SAINT SAUVEUR CAMPRIEU | I66: Tarn Dourbie | J66: 1 | R66: 04 67 73 02 75 | S66: ssc-cdc@sdis30.fr | T66: 23 | U66: 738436.01 | V66: 6334945.5
A67: 67 | B67: 662626 | C67: 30227 | D67: Pompiers - Centre d'intervention et de secours | E67: CIS SAINT-AMBROIX | F67: Route Uzès | G67: 30500 | H67: SAINT AMBROIX | I67: Cèze | J67: 1 | R67: 04 66 60 27 18 | S67: amb-cdc@sdis30.fr | T67: 90 | U67: 795683.3 | V67: 6350715.6
A68: 68 | B68: 662627 | C68: 30146 | D68: Pompiers - Centre d'intervention et de secours | E68: CIS LEDIGNAN | F68: 2 place Roger Chabalier | G68: 30350 | H68: LEDIGNAN | I68: Gardons + Vidourle | J68: 1 | R68: 04 66 60 48 18 | S68: led-cdc@sdis30.fr | T68: 75 | U68: 788671.97 | V68: 6321044.3
A69: 69 | B69: 662628 | C69: 30037 | D69: Pompiers - Centre d'intervention et de secours | E69: CIS BESSEGES | F69: Place jean Jaurès | G69: 30160 | H69: BESSEGES | I69: Cèze | J69: 1 | R69: 04 66 60 09 18 | S69: bes-cdc@sdis30.fr | T69: 61 | U69: 787136.49 | V69: 6356355.4
A70: 70 | B70: 662629 | C70: 30032 | D70: Pompiers - Centre d'intervention et de secours | E70: CIS BEAUCAIRE | F70: Chemin de la Tapie | G70: 30300 | H70: BEAUCAIRE | I70: Rhône | J70: 1 | R70: 04 66 59 84 84 | S70: bau-cdc@sdis30.fr | T70: 103 | U70: 829421.77 | V70: 6303718.1
A71: 71 | B71: 701506 | C71: 30011 | D71: Pompiers - Centre d'intervention et de secours | E71: CIS LES ANGLES | F71: Chemin du pigonelier | G71: 30133 | H71: ANGLES (LES) | I71: Rhône | J71: 1 | R71: 04 90 23 28 90 | S71: ang-cdc@sdis30.fr | T71: 61 | U71: 840288.92 | V71: 6318996.7
A72: 72 | B72: 662622 | C72: 30351 | D72: Pompiers - Centre d'intervention et de secours | E72: CIS VILLENEUVE-LES-AVIGNONS | F72: Avenue Pierre Semard | G72: 30400 | H72: VILLENEUVE LES AVIGNON | I72: Rhône | K72: 1 | Q72: 1 | R72: 04 90 15 18 18 | S72: vla-cdc@sdis30.fr | T72: 35 | U72: 843947.38 | V72: 6320421
A73: 73 | B73: 1 | C73: 30004 | D73: DIRMED - Centre d'exploitation et d'intervention | E73: CEI Aigues-Vives (RN113) | F73: 105, Vieille Route ZA Lalemande | G73: 30670 | H73: AIGUES VIVES | I73: Vistre | K73: 1 | N73: 1 | R73: 04 66 80 68 40 | S73: cei-aigues-vives.drc.dirmed@developpement-durable.gouv.fr | T73: 16 | U73: 796604.31 | V73: 6291260.1
A74: 74 | B74: 2 | C74: 30046 | D74: DIRMED - Centre d'exploitation et d'intervention | E74: CEI Boucoiran (RN106 Nîmes Alès) | F74: N° 7 RD8 | G74: 30190 | H74: BOUCOIRAN ET NOZIERES | I74: Gardons | K74: 1 | O74: 1 | R74: 04 66 43 89 55 | S74: cei-boucoiran-nozieres.drc.dirmed@developpement-durable.gouv.fr | T74: 15 | U74: 796563.38 | V74: 6320300.2
A75: 75 | B75: 3 | C75: 30051 | D75: DIRMED - Centre d'exploitation et d'intervention | E75: CEI Grand-Combien (RN106 Nord Alès) | F75: 2, Impasse du Vélodrome | G75: 30110 | H75: BRANOUX LES TAILLADES | I75: Gardons | J75: 1 | R75: 04 66 60 11 00 | S75: cei-la-grande-combe.drc.dirmed@developpement-durable.gouv.fr | T75: 15 | U75: 780622.19 | V75: 6347657.8
A76: 76 | B76: 1 | C76: 30003 | D76: Police municipale | E76: POLICE MUNICIPALE AIGUES MORTES | F76: 1 boulevard Gambetta | G76: 30220 | H76: AIGUES MORTES | I76: Vidourle + Vistre + Rhône | K76: 1 | Q76: 1 | R76: 04 66 53 69 73 | T76: 10 | U76: 796429.15 | V76: 6274908.8
A77: 77 | B77: 2 | C77: 30004 | D77: Police municipale | E77: POLICE MUNICIPALE AIGUES VIVES | F77: Grand Rue | G77: 30670 | H77: AIGUES VIVES | I77: Vistre | J77: 1 | R77: 04 66 35 91 27 | T77: 2 | U77: 795086.17 | V77: 6294117.6
A78: 78 | B78: 3 | C78: 30006 | D78: Police municipale | E78: POLICE MUNICIPALE AIMARGUES | F78: 8 boulevard Fanfonne Guillerme | G78: 30470 | H78: AIMARGUES | I78: Vidourle + Vistre | K78: 1 | M78: 1 | R78: 04 66 73 37 37 | S78: policemunicipale@aimargues.fr | T78: 0 | U78: 797634.3 | V78: 6288190
A79: 79 | B79: 4 | C79: 30007 | D79: Police municipale | E79: POLICE MUNICIPALE ALES | F79: 1 rue Albert 1er | G79: 30100 | H79: ALES | I79: Gardons | J79: 1 | R79: 04 66 52 45 55 | T79: 0 | U79: 786191.55 | V79: 6336851.9
A80: 80 | B80: 5 | C80: 30007 | D80: Police nationale | E80: COMMISSARIAT ALES | F80: 1 Rue Saint S├®bastien | G80: 30100 | H80: ALES | I80: Gardons | K80: 1 | O80: 1 | R80: 04 66 78 14 22 | T80: 0 | U80: 786230.22 | V80: 6337035.4
A81: 81 | B81: 6 | C81: 30011 | D81: Police municipale | E81: POLICE MUNICIPALE LES ANGLES | F81: Boulevard des Carrières | G81: 30133 | H81: ANGLES (LES) | I81: Rhône | K81: 1 | Q81: 1 | R81: 04 32 70 00 67 | S81: police.municipale@lesangles30.eu | T81: 0 | U81: 841888.5 | V81: 6319379
A82: 82 | B82: 7 | C82: 30012 | D82: Police municipale | E82: POLICE MUNICIPALE ARAMON | F82: Place Pierre Ramel | G82: 30390 | H82: ARAMON | I82: Gardons + Rhône | K82: 1 | M82: 1 | R82: 04 66 57 38 93 | S82: pm.aramon@wanadoo.fr | T82: 4 | U82: 834977.56 | V82: 6311486.4
A83: 83 | B83: 8 | C83: 30028 | D83: Police municipale | E83: POLICE MUNICIPALE BAGNOLS SUR CEZE | F83: Chemin des Dames | G83: 30200 | H83: BAGNOLS SUR CEZE | I83: Cèze | K83: 1 | O83: 1 | R83: 04 66 39 61 98 | S83: pm@bagnolssurceze.fr | T83: 13 | U83: 829742.07 | V83: 6341467.7
A84: 84 | B84: 9 | C84: 30028 | D84: Police nationale | E84: COMMISSARIAT BAGNOLS SUR CEZE | F84: 4 Rue Gentil | G84: 30200 | H84: BAGNOLS SUR CEZE | I84: Cèze | J84: 1 | R84: 04 66 90 63 90 | T84: 0 | U84: 829387.28 | V84: 6341701.6
A85: 85 | B85: 10 | C85: 30032 | D85: Police municipale | E85: POLICE MUNICIPALE BEAUCAIRE | F85: 58 rue Nationale | G85: 30300 | H85: BEAUCAIRE | I85: Rhône | J85: 1 | R85: 04 66 59 22 22 | T85: 0 | U85: 832056.86 | V85: 6302297.2
A86: 86 | B86: 11 | C86: 30032 | D86: Police municipale | E86: POLICE MUNICIPALE BEAUCAIRE ANNEXE | F86: 3 place de la République | G86: 30300 | H86: BEAUCAIRE | I86: Rhône | K86: 1 | M86: 1 | R86: 04 66 81 37 10 | T86: 0 | U86: 832462.32 | V86: 6302403.5
A87: 87 | B87: 12 | C87: 30032 | D87: Police nationale | E87: COMMISSARIAT BEAUCAIRE - TARASCON | F87: 3 Boulevard du Viaduc | G87: 13150 | H87: TARASCON | I87: Hors Gard | J87: 0 | R87: 04 90 91 52 90 | T87: 0 | U87: 833556.88 | V87: 6301739.6
A88: 88 | B88: 13 | C88: 30033 | D88: Police municipale | E88: POLICE MUNICIPALE BEAUVOISIN | F88: Rue de la Mairie | G88: 30640 | H88: BEAUVOISIN | I88: Vistre | J88: 1 | R88: 04 66 01 79 75 | T88: 0 | U88: 806637.33 | V88: 6291932.2
A89: 89 | B89: 14 | C89: 30034 | D89: Police municipale | E89: POLICE MUNICIPALE BELLEGARDE | F89: Place Marcel Boucayrand 8 rue des Ecoles | G89: 30127 | H89: BELLEGARDE | I89: Vistre + Rhône | J89: 1 | R89: 04 66 58 00 73 | T89: 4 | U89: 821890.09 | V89: 6296084.2
A90: 90 | B90: 15 | C90: 30036 | D90: Police municipale | E90: POLICE MUNICIPALE BERNIS | F90: 17 boulevard Charles Mourier | G90: 30620 | H90: BERNIS | I90: Vistre | K90: 1 | N90: 1 | R90: 04 66 71 36 08 | T90: 2 | U90: 803502.13 | V90: 6297130.5
A91: 91 | B91: 16 | C91: 30037 | D91: Police municipale | E91: POLICE MUNICIPALE BESSEGES | F91: 1 place Général de Gaulle | G91: 30160 | H91: BESSEGES | I91: Cèze | K91: 1 | M91: 1 | R91: 04 66 25 34 78 | S91: police-municipale-besseges@wanadoo.fr | T91: 0 | U91: 787114.72 | V91: 6355593.7
A92: 92 | B92: 17 | C92: 30061 | D92: Police municipale | E92: POLICE MUNICIPALE LA CALMETTE | F92: 1 rue Valfons | G92: 30190 | H92: CALMETTE (LA) | I92: Gardons | J92: 1 | R92: 04 66 81 86 77 | T92: 0 | U92: 801482.12 | V92: 6314861.7
A93: 93 | B93: 18 | C93: 30062 | D93: Police municipale | E93: POLICE MUNICIPALE CALVISSON | F93: 4 place Général de Gaulle | G93: 30420 | H93: CALVISSON | I93: Vistre | K93: 1 | M93: 1 | R93: 04 66 01 98 93 | T93: 0 | U93: 796084.55 | V93: 6299294.5
A94: 94 | B94: 19 | C94: 30123 | D94: Police municipale | E94: POLICE MUNICIPALE GALLARGUES LE MONTUEUX | F94: 2 rue Réforme | G94: 30660 | H94: GALLARGUES LE MONTUEUX | I94: Vidourle + Vistre | J94: 1 | R94: 06 76 64 30 00 | S94: securite.gallargues@gmail.com | T94: 0 | U94: 794549.2 | V94: 6292224.7
A95: 95 | B95: 20 | C95: 30125 | D95: Police municipale | E95: POLICE MUNICIPALE GARONS | F95: 19 Grand Rue | G95: 30128 | H95: GARONS | I95: Vistre | J95: 1 | R95: 04 66 70 13 13 | S95: police.municipale@garons.fr | T95: 4 | U95: 814736.49 | V95: 6297872.5
A96: 96 | B96: 21 | C96: 30128 | D96: Police municipale | E96: POLICE MUNICIPALE GENERAC | F96: 1 Bis pl Hôtel de Ville | G96: 30510 | H96: GENERAC | I96: Vistre | J96: 1 | R96: 04 66 01 85 06 | S96: police.generac@live.fr | T96: 0 | U96: 808654 | V96: 6293086
A97: 97 | B97: 9 | C97: 30036 | D97: Gendarmerie | E97: GN BERNIS | F97: 2 Rue Bernard Moal | G97: 30620 | H97: BERNIS | I97: Vistre | K97: 1 | N97: 1 | R97: 04 66 71 39 10 | T97: 0 | U97: 803600.54 | V97: 6297720.6
A98: 98 | B98: 7 | C98: 30029 | D98: Gendarmerie | E98: GN BARJAC | F98: Lieu-dit Plan Long | G98: 30430 | H98: BARJAC | I98: Cèze | J98: 1 | R98: 04 66 24 50 27 | T98: 0 | U98: 806927.13 | V98: 6356200.4
A99: 99 | B99: 17 | C99: 30202 | D99: Gendarmerie | E99: GN PONT St ESPRIT | F99: 2 Allée des Roses | G99: 30130 | H99: PONT SAINT ESPRIT | I99: Rhône + Ardèche | J99: 1 | R99: 04 66 39 10 01 | S99: cob.pont-st-esprit@gendarmerie.interieur.gouv.fr | T99: 0 | U99: 831124.92 | V99: 6350813.9
A100: 100 | B100: 11 | C100: 30047 | D100: Gendarmerie | E100: GN BOUILLARGUES | F100: 750 Chemin des Manades | G100: 30230 | H100: BOUILLARGUES | I100: Vistre | J100: 1 | R100: 04 66 20 12 36 | S100: cob.bouillargues@gendarmerie.interieur.gouv.fr | T100: 0 | U100: 815612.27 | V100: 6300283.3
...

Sheet communes
A1: INSEE | B1: COMMUNES | C1: BV | D1: CONFL | E1: Nb_services | F1: mairie | G1: police | H1: gendarmerie | I1: pompiers | J1: UT CG30 | K1: DIRMED | L1: Hors ZI | M1: en ZI | N1: Très Fort | O1: Fort | P1: Modéré | Q1: Résduel | R1: Ruissellement | S1: Indifférencié | T1: % services ZI/services
A2: 30001 | B2: AIGALIERS | C2: Gardon | E2: =F2+G2+H2+I2+J2+K2 -> 1 | F2: 1 | L2: 1 | M2: =SUM(N2:S2) -> 0 | T2: =M2/E2 -> 0
A3: 30002 | B3: AIGREMONT | C3: Vidourle | E3: =F3+G3+H3+I3+J3+K3 -> 1 | F3: 1 | L3: 1 | M3: =SUM(N3:S3) -> 0 | T3: =M3/E3 -> 0
A4: 30003 | B4: AIGUES MORTES | C4: Camargue | D4: rhône+vistre+ vidourle | E4: =F4+G4+H4+I4+J4+K4 -> 3 | F4: 1 | G4: 1 | H4: 1 | L4: 0 | M4: =SUM(N4:S4) -> 3 | S4: 3 | T4: =M4/E4 -> 1
A5: 30004 | B5: AIGUES VIVES | C5: Vistre | D5: vistre+vidourle | E5: =F5+G5+H5+I5+J5+K5 -> 3 | F5: 1 | G5: 1 | K5: 1 | L5: 2 | M5: =SUM(N5:S5) -> 1 | P5: 1 | T5: =M5/E5 -> 0.33333333
A6: 30005 | B6: AIGUEZE | C6: Ardèche | E6: =F6+G6+H6+I6+J6+K6 -> 1 | F6: 1 | L6: 1 | M6: =SUM(N6:S6) -> 0 | T6: =M6/E6 -> 0
A7: 30006 | B7: AIMARGUES | C7: Vidourle | D7: rhône+vistre+ vidourle | E7: =F7+G7+H7+I7+J7+K7 -> 3 | F7: 1 | G7: 1 | H7: 1 | L7: 0 | M7: =SUM(N7:S7) -> 3 | O7: 1 | P7: 1 | Q7: 1 | T7: =M7/E7 -> 1
A8: 30007 | B8: ALES | C8: Gardon | E8: =F8+G8+H8+I8+J8+K8 -> 6 | F8: 1 | G8: 2 | H8: 1 | I8: 1 | J8: 1 | L8: 4 | M8: =SUM(N8:S8) -> 2 | Q8: 2 | T8: =M8/E8 -> 0.33333333
A9: 30008 | B9: ALLEGRE LES FUMADES | C9: Cèze | E9: =F9+G9+H9+I9+J9+K9 -> 1 | F9: 1 | L9: 1 | M9: =SUM(N9:S9) -> 0 | T9: =M9/E9 -> 0
A10: 30009 | B10: ALZON | C10: Hérault | E10: =F10+G10+H10+I10+J10+K10 -> 1 | F10: 1 | L10: 1 | M10: =SUM(N10:S10) -> 0 | T10: =M10/E10 -> 0
A11: 30010 | B11: ANDUZE | C11: Gardon | E11: =F11+G11+H11+I11+J11+K11 -> 2 | F11: 1 | H11: 1 | L11: 0 | M11: =SUM(N11:S11) -> 2 | O11: 1 | P11: 1 | T11: =M11/E11 -> 1
A12: 30011 | B12: ANGLES (LES) | C12: Rhône | E12: =F12+G12+H12+I12+J12+K12 -> 4 | F12: 1 | G12: 1 | I12: 1 | K12: 1 | L12: 3 | M12: =SUM(N12:S12) -> 1 | S12: 1 | T12: =M12/E12 -> 0.25
A13: 30012 | B13: ARAMON | C13: Rhône | D13: gardon+rhône | E13: =F13+G13+H13+I13+J13+K13 -> 3 | F13: 1 | G13: 1 | H13: 1 | L13: 0 | M13: =SUM(N13:S13) -> 3 | O13: 3 | T13: =M13/E13 -> 1
A14: 30013 | B14: ARGILLIERS | C14: Gardon | E14: =F14+G14+H14+I14+J14+K14 -> 1 | F14: 1 | L14: 1 | M14: =SUM(N14:S14) -> 0 | T14: =M14/E14 -> 0
A15: 30014 | B15: ARPAILLARGUES ET AUREILLAC | C15: Gardon | E15: =F15+G15+H15+I15+J15+K15 -> 1 | F15: 1 | L15: 1 | M15: =SUM(N15:S15) -> 0 | T15: =M15/E15 -> 0
A16: 30015 | B16: ARPHY | C16: Hérault | D16: hérault+tarn | E16: =F16+G16+H16+I16+J16+K16 -> 1 | F16: 1 | L16: 0 | M16: =SUM(N16:S16) -> 1 | S16: 1 | T16: =M16/E16 -> 1
A17: 30016 | B17: ARRE | C17: Hérault | E17: =F17+G17+H17+I17+J17+K17 -> 1 | F17: 1 | L17: 1 | M17: =SUM(N17:S17) -> 0 | T17: =M17/E17 -> 0
A18: 30017 | B18: ARRIGAS | C18: Hérault | E18: =F18+G18+H18+I18+J18+K18 -> 1 | F18: 1 | L18: 1 | M18: =SUM(N18:S18) -> 0 | T18: =M18/E18 -> 0
A19: 30018 | B19: ASPERES | C19: Vidourle | E19: =F19+G19+H19+I19+J19+K19 -> 1 | F19: 1 | L19: 1 | M19: =SUM(N19:S19) -> 0 | T19: =M19/E19 -> 0
A20: 30019 | B20: AUBAIS | C20: Vidourle | E20: =F20+G20+H20+I20+J20+K20 -> 1 | F20: 1 | L20: 1 | M20: =SUM(N20:S20) -> 0 | T20: =M20/E20 -> 0
A21: 30020 | B21: AUBORD | C21: Vistre | E21: =F21+G21+H21+I21+J21+K21 -> 1 | F21: 1 | L21: 0 | M21: =SUM(N21:S21) -> 1 | O21: 1 | T21: =M21/E21 -> 1
A22: 30021 | B22: AUBUSSARGUES | C22: Gardon | E22: =F22+G22+H22+I22+J22+K22 -> 1 | F22: 1 | L22: 1 | M22: =SUM(N22:S22) -> 0 | T22: =M22/E22 -> 0
A23: 30022 | B23: AUJAC | C23: Cèze | E23: =F23+G23+H23+I23+J23+K23 -> 1 | F23: 1 | L23: 1 | M23: =SUM(N23:S23) -> 0 | T23: =M23/E23 -> 0
A24: 30023 | B24: AUJARGUES | C24: Vidourle | E24: =F24+G24+H24+I24+J24+K24 -> 1 | F24: 1 | L24: 1 | M24: =SUM(N24:S24) -> 0 | T24: =M24/E24 -> 0
A25: 30024 | B25: AULAS | C25: Hérault | E25: =F25+G25+H25+I25+J25+K25 -> 1 | F25: 1 | L25: 1 | M25: =SUM(N25:S25) -> 0 | T25: =M25/E25 -> 0
A26: 30025 | B26: AUMESSAS | C26: Hérault | E26: =F26+G26+H26+I26+J26+K26 -> 1 | F26: 1 | L26: 1 | M26: =SUM(N26:S26) -> 0 | T26: =M26/E26 -> 0
A27: 30026 | B27: AVEZE | C27: Hérault | E27: =F27+G27+H27+I27+J27+K27 -> 1 | F27: 1 | L27: 0 | M27: =SUM(N27:S27) -> 1 | S27: 1 | T27: =M27/E27 -> 1
A28: 30027 | B28: BAGARD | C28: Gardon | E28: =F28+G28+H28+I28+J28+K28 -> 1 | F28: 1 | L28: 0 | M28: =SUM(N28:S28) -> 1 | P28: 1 | T28: =M28/E28 -> 1
A29: 30028 | B29: BAGNOLS SUR CEZE | C29: Cèze | E29: =F29+G29+H29+I29+J29+K29 -> 5 | F29: 1 | G29: 2 | H29: 1 | J29: 1 | L29: 3 | M29: =SUM(N29:S29) -> 2 | Q29: 2 | T29: =M29/E29 -> 0.4
A30: 30029 | B30: BARJAC | C30: Cèze | D30: cèze+ardèche | E30: =F30+G30+H30+I30+J30+K30 -> 3 | F30: 1 | H30: 1 | I30: 1 | L30: 3 | M30: =SUM(N30:S30) -> 0 | T30: =M30/E30 -> 0
A31: 30030 | B31: BARON | C31: Gardon | E31: =F31+G31+H31+I31+J31+K31 -> 1 | F31: 1 | L31: 1 | M31: =SUM(N31:S31) -> 0 | T31: =M31/E31 -> 0
A32: 30031 | B32: BASTIDE D'ENGRAS (LA) | C32: Cèze | E32: =F32+G32+H32+I32+J32+K32 -> 1 | F32: 1 | L32: 1 | M32: =SUM(N32:S32) -> 0 | T32: =M32/E32 -> 0
A33: 30032 | B33: BEAUCAIRE | C33: Rhône | E33: =F33+G33+H33+I33+J33+K33 -> 4 | F33: 1 | G33: 2 | I33: 1 | L33: 3 | M33: =SUM(N33:S33) -> 1 | O33: 1 | T33: =M33/E33 -> 0.25
A34: 30033 | B34: BEAUVOISIN | C34: Vistre | D34: rhône+vistre | E34: =F34+G34+H34+I34+J34+K34 -> 2 | F34: 1 | G34: 1 | L34: 2 | M34: =SUM(N34:S34) -> 0 | T34: =M34/E34 -> 0
A35: 30034 | B35: BELLEGARDE | C35: Rhône | D35: rhône+vistre | E35: =F35+G35+H35+I35+J35+K35 -> 3 | F35: 1 | G35: 1 | H35: 1 | L35: 1 | M35: =SUM(N35:S35) -> 2 | O35: 1 | P35: 1 | T35: =M35/E35 -> 0.66666667
A36: 30035 | B36: BELVEZET | C36: Gardon | E36: =F36+G36+H36+I36+J36+K36 -> 1 | F36: 1 | L36: 1 | M36: =SUM(N36:S36) -> 0 | T36: =M36/E36 -> 0
A37: 30036 | B37: BERNIS | C37: Vistre | E37: =F37+G37+H37+I37+J37+K37 -> 3 | F37: 1 | G37: 1 | H37: 1 | L37: 0 | M37: =SUM(N37:S37) -> 3 | P37: 3 | T37: =M37/E37 -> 1
A38: 30037 | B38: BESSEGES | C38: Cèze | E38: =F38+G38+H38+I38+J38+K38 -> 5 | F38: 1 | G38: 1 | H38: 1 | I38: 1 | J38: 1 | L38: 2 | M38: =SUM(N38:S38) -> 3 | O38: 2 | Q38: 1 | T38: =M38/E38 -> 0.6
A39: 30038 | B39: BEZ ET ESPARON | C39: Hérault | E39: =F39+G39+H39+I39+J39+K39 -> 1 | F39: 1 | L39: 1 | M39: =SUM(N39:S39) -> 0 | T39: =M39/E39 -> 0
A40: 30039 | B40: BEZOUCE | C40: Vistre | E40: =F40+G40+H40+I40+J40+K40 -> 1 | F40: 1 | L40: 1 | M40: =SUM(N40:S40) -> 0 | T40: =M40/E40 -> 0
A41: 30040 | B41: BLANDAS | C41: Hérault | E41: =F41+G41+H41+I41+J41+K41 -> 1 | F41: 1 | L41: 1 | M41: =SUM(N41:S41) -> 0 | T41: =M41/E41 -> 0
A42: 30041 | B42: BLAUZAC | C42: Gardon | E42: =F42+G42+H42+I42+J42+K42 -> 1 | F42: 1 | L42: 1 | M42: =SUM(N42:S42) -> 0 | T42: =M42/E42 -> 0
A43: 30042 | B43: BOISSET ET GAUJAC | C43: Gardon | E43: =F43+G43+H43+I43+J43+K43 -> 1 | F43: 1 | L43: 1 | M43: =SUM(N43:S43) -> 0 | T43: =M43/E43 -> 0
A44: 30043 | B44: BOISSIERES | C44: Vistre | E44: =F44+G44+H44+I44+J44+K44 -> 1 | F44: 1 | L44: 1 | M44: =SUM(N44:S44) -> 0 | T44: =M44/E44 -> 0
A45: 30044 | B45: BONNEVAUX | C45: Cèze | E45: =F45+G45+H45+I45+J45+K45 -> 1 | F45: 1 | L45: 1 | M45: =SUM(N45:S45) -> 0 | T45: =M45/E45 -> 0
A46: 30045 | B46: BORDEZAC | C46: Cèze | E46: =F46+G46+H46+I46+J46+K46 -> 1 | F46: 1 | L46: 1 | M46: =SUM(N46:S46) -> 0 | T46: =M46/E46 -> 0
A47: 30046 | B47: BOUCOIRAN ET NOZIERES | C47: Gardon | E47: =F47+G47+H47+I47+J47+K47 -> 2 | F47: 1 | K47: 1 | L47: 1 | M47: =SUM(N47:S47) -> 1 | Q47: 1 | T47: =M47/E47 -> 0.5
A48: 30047 | B48: BOUILLARGUES | C48: Vistre | E48: =F48+G48+H48+I48+J48+K48 -> 2 | F48: 1 | H48: 1 | L48: 2 | M48: =SUM(N48:S48) -> 0 | T48: =M48/E48 -> 0
A49: 30048 | B49: BOUQUET | C49: Cèze | E49: =F49+G49+H49+I49+J49+K49 -> 1 | F49: 1 | L49: 1 | M49: =SUM(N49:S49) -> 0 | T49: =M49/E49 -> 0
A50: 30049 | B50: BOURDIC | C50: Gardon | E50: =F50+G50+H50+I50+J50+K50 -> 1 | F50: 1 | L50: 0 | M50: =SUM(N50:S50) -> 1 | O50: 1 | T50: =M50/E50 -> 1
A51: 30050 | B51: BRAGASSARGUES | C51: Vidourle | E51: =F51+G51+H51+I51+J51+K51 -> 1 | F51: 1 | L51: 1 | M51: =SUM(N51:S51) -> 0 | T51: =M51/E51 -> 0
A52: 30051 | B52: BRANOUX LES TAILLADES | C52: Gardon | E52: =F52+G52+H52+I52+J52+K52 -> 2 | F52: 1 | K52: 1 | L52: 1 | M52: =SUM(N52:S52) -> 1 | Q52: 1 | T52: =M52/E52 -> 0.5
A53: 30052 | B53: BREAU MARS | C53: Hérault | D53: hérault+tarn | E53: =F53+G53+H53+I53+J53+K53 -> 1 | F53: 1 | L53: 1 | M53: =SUM(N53:S53) -> 0 | T53: =M53/E53 -> 0
A54: 30053 | B54: BRIGNON | C54: Gardon | E54: =F54+G54+H54+I54+J54+K54 -> 1 | F54: 1 | L54: 1 | M54: =SUM(N54:S54) -> 0 | T54: =M54/E54 -> 0
A55: 30055 | B55: BROUZET LES ALES | C55: Cèze | E55: =F55+G55+H55+I55+J55+K55 -> 1 | F55: 1 | L55: 1 | M55: =SUM(N55:S55) -> 0 | T55: =M55/E55 -> 0
A56: 30054 | B56: BROUZET LES QUISSAC | C56: Vidourle | E56: =F56+G56+H56+I56+J56+K56 -> 1 | F56: 1 | L56: 1 | M56: =SUM(N56:S56) -> 0 | T56: =M56/E56 -> 0
A57: 30056 | B57: BRUGUIERE (LA) | C57: Cèze | E57: =F57+G57+H57+I57+J57+K57 -> 1 | F57: 1 | L57: 1 | M57: =SUM(N57:S57) -> 0 | T57: =M57/E57 -> 0
A58: 30057 | B58: CABRIERES | C58: Gardon | E58: =F58+G58+H58+I58+J58+K58 -> 1 | F58: 1 | L58: 1 | M58: =SUM(N58:S58) -> 0 | T58: =M58/E58 -> 0
A59: 30058 | B59: CADIERE ET CAMBO (LA) | C59: Vidourle | E59: =F59+G59+H59+I59+J59+K59 -> 1 | F59: 1 | L59: 1 | M59: =SUM(N59:S59) -> 0 | T59: =M59/E59 -> 0
A60: 30059 | B60: CAILAR (LE) | C60: Vistre | D60: rhône+vistre+ vidourle | E60: =F60+G60+H60+I60+J60+K60 -> 1 | F60: 1 | L60: 0 | M60: =SUM(N60:S60) -> 1 | S60: 1 | T60: =M60/E60 -> 1
A61: 30060 | B61: CAISSARGUES | C61: Vistre | E61: =F61+G61+H61+I61+J61+K61 -> 1 | F61: 1 | L61: 0 | M61: =SUM(N61:S61) -> 1 | P61: 1 | T61: =M61/E61 -> 1
A62: 30061 | B62: CALMETTE (LA) | C62: Gardon | E62: =F62+G62+H62+I62+J62+K62 -> 2 | F62: 1 | G62: 1 | L62: 2 | M62: =SUM(N62:S62) -> 0 | T62: =M62/E62 -> 0
A63: 30062 | B63: CALVISSON | C63: Vistre | E63: =F63+G63+H63+I63+J63+K63 -> 3 | F63: 1 | G63: 1 | H63: 1 | L63: 2 | M63: =SUM(N63:S63) -> 1 | O63: 1 | T63: =M63/E63 -> 0.33333333
A64: 30064 | B64: CAMPESTRE ET LUC | C64: Hérault | E64: =F64+G64+H64+I64+J64+K64 -> 1 | F64: 1 | L64: 1 | M64: =SUM(N64:S64) -> 0 | T64: =M64/E64 -> 0
A65: 30065 | B65: CANAULES ET ARGENTIERES | C65: Vidourle | E65: =F65+G65+H65+I65+J65+K65 -> 1 | F65: 1 | L65: 1 | M65: =SUM(N65:S65) -> 0 | T65: =M65/E65 -> 0
A66: 30066 | B66: CANNES ET CLAIRAN | C66: Vidourle | E66: =F66+G66+H66+I66+J66+K66 -> 1 | F66: 1 | L66: 1 | M66: =SUM(N66:S66) -> 0 | T66: =M66/E66 -> 0
A67: 30067 | B67: CAPELLE ET MASMOLENE (LA) | C67: Gardon | D67: gardon+cèze | E67: =F67+G67+H67+I67+J67+K67 -> 1 | F67: 1 | L67: 1 | M67: =SUM(N67:S67) -> 0 | T67: =M67/E67 -> 0
A68: 30068 | B68: CARDET | C68: Gardon | E68: =F68+G68+H68+I68+J68+K68 -> 1 | F68: 1 | L68: 0 | M68: =SUM(N68:S68) -> 1 | S68: 1 | T68: =M68/E68 -> 1
A69: 30069 | B69: CARNAS | C69: Vidourle | E69: =F69+G69+H69+I69+J69+K69 -> 1 | F69: 1 | L69: 1 | M69: =SUM(N69:S69) -> 0 | T69: =M69/E69 -> 0
A70: 30070 | B70: CARSAN | C70: Rhône | D70: rhône+ardèche | E70: =F70+G70+H70+I70+J70+K70 -> 1 | F70: 1 | L70: 1 | M70: =SUM(N70:S70) -> 0 | T70: =M70/E70 -> 0
A71: 30071 | B71: CASSAGNOLES | C71: Gardon | E71: =F71+G71+H71+I71+J71+K71 -> 1 | F71: 1 | L71: 1 | M71: =SUM(N71:S71) -> 0 | T71: =M71/E71 -> 0
A72: 30072 | B72: CASTELNAU VALENCE | C72: Gardon | E72: =F72+G72+H72+I72+J72+K72 -> 1 | F72: 1 | L72: 1 | M72: =SUM(N72:S72) -> 0 | T72: =M72/E72 -> 0
A73: 30073 | B73: CASTILLON DU GARD | C73: Gardon | E73: =F73+G73+H73+I73+J73+K73 -> 1 | F73: 1 | L73: 1 | M73: =SUM(N73:S73) -> 0 | T73: =M73/E73 -> 0
A74: 30074 | B74: CAUSSE BEGON | C74: Tarn | E74: =F74+G74+H74+I74+J74+K74 -> 1 | F74: 1 | L74: 1 | M74: =SUM(N74:S74) -> 0 | T74: =M74/E74 -> 0
A75: 30075 | B75: CAVEIRAC | C75: Vistre | E75: =F75+G75+H75+I75+J75+K75 -> 1 | F75: 1 | L75: 0 | M75: =SUM(N75:S75) -> 1 | O75: 1 | T75: =M75/E75 -> 1
A76: 30076 | B76: CAVILLARGUES | C76: Cèze | E76: =F76+G76+H76+I76+J76+K76 -> 1 | F76: 1 | L76: 0 | M76: =SUM(N76:S76) -> 1 | S76: 1 | T76: =M76/E76 -> 1
A77: 30077 | B77: CENDRAS | C77: Gardon | E77: =F77+G77+H77+I77+J77+K77 -> 1 | F77: 1 | L77: 1 | M77: =SUM(N77:S77) -> 0 | T77: =M77/E77 -> 0
A78: 30079 | B78: CHAMBON | C78: Cèze | E78: =F78+G78+H78+I78+J78+K78 -> 1 | F78: 1 | L78: 0 | M78: =SUM(N78:S78) -> 1 | Q78: 1 | T78: =M78/E78 -> 1
A79: 30080 | B79: CHAMBORIGAUD | C79: Cèze | E79: =F79+G79+H79+I79+J79+K79 -> 1 | F79: 1 | L79: 1 | M79: =SUM(N79:S79) -> 0 | T79: =M79/E79 -> 0
A80: 30081 | B80: CHUSCLAN | C80: Cèze | D80: rhône+cèze | E80: =F80+G80+H80+I80+J80+K80 -> 1 | F80: 1 | L80: 0 | M80: =SUM(N80:S80) -> 1 | O80: 1 | T80: =M80/E80 -> 1
A81: 30082 | B81: CLARENSAC | C81: Vistre | D81: gardon+vistre | E81: =F81+G81+H81+I81+J81+K81 -> 1 | F81: 1 | L81: 1 | M81: =SUM(N81:S81) -> 0 | T81: =M81/E81 -> 0
A82: 30083 | B82: CODOGNAN | C82: Vistre | E82: =F82+G82+H82+I82+J82+K82 -> 1 | F82: 1 | L82: 0 | M82: =SUM(N82:S82) -> 1 | O82: 1 | T82: =M82/E82 -> 1
A83: 30084 | B83: CODOLET | C83: Cèze | D83: rhône+cèze | E83: =F83+G83+H83+I83+J83+K83 -> 1 | F83: 1 | L83: 0 | M83: =SUM(N83:S83) -> 1 | O83: 1 | T83: =M83/E83 -> 1
A84: 30085 | B84: COLLIAS | C84: Gardon | E84: =F84+G84+H84+I84+J84+K84 -> 1 | F84: 1 | L84: 1 | M84: =SUM(N84:S84) -> 0 | T84: =M84/E84 -> 0
A85: 30086 | B85: COLLORGUES | C85: Gardon | E85: =F85+G85+H85+I85+J85+K85 -> 1 | F85: 1 | L85: 1 | M85: =SUM(N85:S85) -> 0 | T85: =M85/E85 -> 0
A86: 30087 | B86: COLOGNAC | C86: Gardon | E86: =F86+G86+H86+I86+J86+K86 -> 1 | F86: 1 | L86: 1 | M86: =SUM(N86:S86) -> 0 | T86: =M86/E86 -> 0
A87: 30088 | B87: COMBAS | C87: Vidourle | E87: =F87+G87+H87+I87+J87+K87 -> 1 | F87: 1 | L87: 1 | M87: =SUM(N87:S87) -> 0 | T87: =M87/E87 -> 0
A88: 30089 | B88: COMPS | C88: Rhône | D88: gardon+rhône | E88: =F88+G88+H88+I88+J88+K88 -> 1 | F88: 1 | L88: 0 | M88: =SUM(N88:S88) -> 1 | O88: 1 | T88: =M88/E88 -> 1
A89: 30090 | B89: CONCOULES | C89: Cèze | E89: =F89+G89+H89+I89+J89+K89 -> 1 | F89: 1 | L89: 1 | M89: =SUM(N89:S89) -> 0 | T89: =M89/E89 -> 0
A90: 30091 | B90: CONGENIES | C90: Vidourle | D90: vistre+vidourle | E90: =F90+G90+H90+I90+J90+K90 -> 1 | F90: 1 | L90: 1 | M90: =SUM(N90:S90) -> 0 | T90: =M90/E90 -> 0
A91: 30092 | B91: CONNAUX | C91: Cèze | E91: =F91+G91+H91+I91+J91+K91 -> 1 | F91: 1 | L91: 1 | M91: =SUM(N91:S91) -> 0 | T91: =M91/E91 -> 0
A92: 30093 | B92: CONQUEYRAC | C92: Vidourle | E92: =F92+G92+H92+I92+J92+K92 -> 1 | F92: 1 | L92: 0 | M92: =SUM(N92:S92) -> 1 | S92: 1 | T92: =M92/E92 -> 1
A93: 30094 | B93: CORBES | C93: Gardon | E93: =F93+G93+H93+I93+J93+K93 -> 1 | F93: 1 | L93: 1 | M93: =SUM(N93:S93) -> 0 | T93: =M93/E93 -> 0
A94: 30095 | B94: CORCONNE | C94: Vidourle | E94: =F94+G94+H94+I94+J94+K94 -> 1 | F94: 1 | L94: 0 | M94: =SUM(N94:S94) -> 1 | P94: 1 | T94: =M94/E94 -> 1
A95: 30096 | B95: CORNILLON | C95: Cèze | E95: =F95+G95+H95+I95+J95+K95 -> 2 | F95: 1 | H95: 1 | L95: 0 | M95: =SUM(N95:S95) -> 2 | P95: 2 | T95: =M95/E95 -> 1
A96: 30097 | B96: COURRY | C96: Cèze | E96: =F96+G96+H96+I96+J96+K96 -> 1 | F96: 1 | L96: 1 | M96: =SUM(N96:S96) -> 0 | T96: =M96/E96 -> 0
A97: 30098 | B97: CRESPIAN | C97: Vidourle | E97: =F97+G97+H97+I97+J97+K97 -> 1 | F97: 1 | L97: 1 | M97: =SUM(N97:S97) -> 0 | T97: =M97/E97 -> 0
A98: 30099 | B98: CROS | C98: Vidourle | E98: =F98+G98+H98+I98+J98+K98 -> 1 | F98: 1 | L98: 1 | M98: =SUM(N98:S98) -> 0 | T98: =M98/E98 -> 0
A99: 30100 | B99: CRUVIERS LASCOURS | C99: Gardon | E99: =F99+G99+H99+I99+J99+K99 -> 1 | F99: 1 | L99: 1 | M99: =SUM(N99:S99) -> 0 | T99: =M99/E99 -> 0
A100: 30101 | B100: DEAUX | C100: Gardon | E100: =F100+G100+H100+I100+J100+K100 -> 1 | F100: 1 | L100: 1 | M100: =SUM(N100:S100) -> 0 | T100: =M100/E100 -> 0
...

Sheet bilan
A1: services administratifs et opérationnels
A4: bassin versant | B4: Nb services | C4: Nb mairies | D4: nb poste de police | E4: nb poste de gendamerie | F4: nb casernes pompiers | G4: nb services routes (DIRMED + UTCD30) | H4: nb services en zone inondable | I4: % services en ZI / total services | N4: Nb services | O4: mairies | P4: postes de police | Q4: postes de gendamerie | R4: centres d'intervention des pompiers | S4: centres d'intervention routiers (DIRMED + UT CD30)
A5: Gardons | B5: =C5+D5+E5+F5+G5 -> 166 | C5: 127 | D5: =2+9+2+1 -> 14 | E5: 15 | F5: 7 | G5: =1+2 -> 3 | H5: =G17 -> 42 | I5: =H5/B5 -> 0.25301205 | J5: =D5+E5+F5+G5 -> 39 | N5: =B13 -> 498 | O5: =C13 -> 351 | P5: =D13 -> 61 | Q5: =E13 -> 45 | R5: =F13 -> 31 | S5: =G13 -> 10
A6: Cèze | B6: =C6+D6+E6+F6+G6 -> 104 | C6: 82 | D6: 6 | E6: 8 | F6: 6 | G6: 2 | H6: =G18 -> 18 | I6: =H6/B6 -> 0.17307692 | J6: =D6+E6+F6+G6 -> 22
A7: Rhône | B7: =C7+D7+E7+F7+G7 -> 65 | C7: 29 | D7: =18 -> 18 | E7: =4+1+2+1+2 -> 10 | F7: =6+1 -> 7 | G7: 1 | H7: =G19 -> 35 | I7: =H7/B7 -> 0.53846154 | J7: =D7+E7+F7+G7 -> 36
A8: Ardèche | B8: =C8+D8+E8+F8+G8 -> 12 | C8: =8+1 -> 9 | D8: 1 | E8: 1 | F8: 1 | G8: 0 | H8: =G20 -> 1 | I8: =H8/B8 -> 0.083333333 | J8: =D8+E8+F8+G8 -> 3
A9: Vidourle | B9: =C9+D9+E9+F9+G9 -> 73 | C9: 56 | D9: 7 | E9: 6 | F9: 4 | G9: 0 | H9: =G21 -> 22 | I9: =H9/B9 -> 0.30136986 | J9: =D9+E9+F9+G9 -> 17
A10: Vistre - Rhony | B10: =C10+D10+E10+F10+G10 -> 84 | C10: =40 -> 40 | D10: 27 | E10: =6+2+1 -> 9 | F10: 5 | G10: =1+1+1 -> 3 | H10: =G22 -> 43 | I10: =H10/B10 -> 0.51190476 | J10: =D10+E10+F10+G10 -> 44
A11: Hérault | B11: =C11+D11+E11+F11+G11 -> 33 | C11: 27 | D11: 0 | E11: 3 | F11: 2 | G11: 1 | H11: =G23 -> 8 | I11: =H11/B11 -> 0.24242424 | J11: =D11+E11+F11+G11 -> 6
A12: Tarn - Dourbie | B12: =C12+D12+E12+F12+G12 -> 9 | C12: 6 | D12: 0 | E12: 1 | F12: 2 | G12: 0 | H12: =G24 -> 3 | I12: =H12/B12 -> 0.33333333 | J12: =D12+E12+F12+G12 -> 3
A13: GARD | B13: =C13+D13+E13+F13+G13 -> 498 | C13: =communes!F353 -> 351 | D13: =communes!G353 -> 61 | E13: =communes!H353 -> 45 | F13: =communes!I353 -> 31 | G13: =communes!J353+communes!K353 -> 10 | H13: =communes!M353 -> 143 | I13: =H13/B13 -> 0.28714859 | J13: =D13+E13+F13+G13 -> 147
A16: bassin versant | B16: aléa très fort et fort | C16: aléa modéré | D16: aléa résiduel | E16: aléa indifférencié | F16: hors zone inondable | G16: total en ZI | H16: total
A17: Gardons | B17: =7+4 -> 11 | C17: =6+5 -> 11 | D17: =5+4 -> 9 | E17: =8+3 -> 11 | F17: =101+23 -> 124 | G17: =B17+C17+D17+E17 -> 42 | H17: =F17+G17 -> 166
A18: Cèze | B18: =5+3 -> 8 | C18: =2+1 -> 3 | D18: =4+2 -> 6 | E18: =1 -> 1 | F18: =70+16 -> 86 | G18: =B18+C18+D18+E18 -> 18 | H18: =F18+G18 -> 104
A19: Rhône | B19: =5+6 -> 11 | C19: =3+2 -> 5 | D19: =2+1 -> 3 | E19: =4+12 -> 16 | F19: =15+15 -> 30 | G19: =B19+C19+D19+E19 -> 35 | H19: =F19+G19 -> 65
A20: Ardèche | B20: 0 | C20: 0 | D20: 0 | E20: 1 | F20: =8+3 -> 11 | G20: =B20+C20+D20+E20 -> 1 | H20: =F20+G20 -> 12
A21: Vidourle | B21: =1+4 -> 5 | C21: =1+1 -> 2 | D21: =2+1 -> 3 | E21: =7+5 -> 12 | F21: =45+6 -> 51 | G21: =B21+C21+D21+E21 -> 22 | H21: =F21+G21 -> 73
A22: Vistre - Rhony | B22: =5+5+4 -> 14 | C22: =5+14 -> 19 | D22: =3+3 -> 6 | E22: =2+2 -> 4 | F22: =25+16 -> 41 | G22: =B22+C22+D22+E22 -> 43 | H22: =F22+G22 -> 84 | K22: =34/132 -> 0.25757576
A23: Hérault | B23: 1 | C23: 0 | D23: 0 | E23: 7 | F23: =22+3 -> 25 | G23: =B23+C23+D23+E23 -> 8 | H23: =F23+G23 -> 33 | K23: =C25/132 -> 0.26515152
A24: Tarn - Dourbie | B24: 0 | C24: 0 | D24: 0 | E24: =1+2 -> 3 | F24: =5+1 -> 6 | G24: =B24+C24+D24+E24 -> 3 | H24: =F24+G24 -> 9
A25: GARD | B25: =communes!N353+communes!O353 -> 41 | C25: =communes!P353 -> 35 | D25: =communes!Q353 -> 23 | E25: =communes!S353 -> 44 | F25: =B13-G25 -> 355 | G25: =B25+C25+D25+E25 -> 143 | H25: =F25+G25 -> 498 | K25: =(34+28)/G25 -> 0.43356643
B27: aléa très fort | C27: aléa fort | D27: aléa modéré | E27: aléa résiduel | F27: aléa indifférencié | G27: hors zone inondable | H27: total en ZI | I27: total
B28: =communes!N353 -> 4 | C28: =communes!O353 -> 37 | D28: 35 | E28: 23 | F28: 44 | G28: 355 | H28: 143 | I28: 498
C29: =(B28+C28)/H28 -> 0.28671329 | D29: =D28/H28 -> 0.24475524 | E29: =E28/H28 -> 0.16083916 | F29: =F28/G25 -> 0.30769231
C31: hors zone inondable | D31: en zone inondable
C32: =F25 -> 355 | D32: =G25 -> 143
A87: types de services | B87: aléa très fort | C87: aléa fort | D87: aléa modéré | E87: aléa résiduel | F87: aléa indifférencié | G87: hors zone inondable | H87: total en ZI | I87: % en ZI
A88: mairies | B88: =mairies!M354 -> 0 | C88: =mairies!N354 -> 20 | D88: =mairies!O354 -> 15 | E88: =mairies!P354 -> 13 | F88: =mairies!R354 -> 24 | G88: =mairies!K354 -> 279 | H88: =B88+C88+D88+E88+F88 -> 72 | I88: =H88/J88 -> 0.20512821 | J88: =G88+H88 -> 351 | K88: =(B88+D88)/H88 -> 0.20833333
A89: postes de police | B89: 2 | C89: 9 | D89: 8 | E89: 5 | F89: 7 | G89: 30 | H89: =B89+C89+D89+E89+F89 -> 31 | I89: =H89/J89 -> 0.50819672 | J89: =G89+H89 -> 61 | K89: =(B89+D89)/H89 -> 0.32258065
A90: postes de gendarmerie | B90: 1 | C90: 4 | D90: 7 | E90: 2 | F90: 7 | G90: 24 | H90: =B90+C90+D90+E90+F90 -> 21 | I90: =H90/J90 -> 0.46666667 | J90: =G90+H90 -> 45 | K90: =(B90+D90)/H90 -> 0.38095238
A91: centres d'intervention pompiers | B91: 1 | C91: 3 | D91: 4 | E91: 0 | F91: 6 | G91: 17 | H91: =B91+C91+D91+E91+F91 -> 14 | I91: =H91/J91 -> 0.4516129 | J91: =G91+H91 -> 31 | K91: =(B91+D91)/H91 -> 0.35714286
A92: centres d'intervention routiers | B92: 0 | C92: 1 | D92: 1 | E92: 3 | F92: 0 | G92: 5 | H92: =B92+C92+D92+E92+F92 -> 5 | I92: =H92/J92 -> 0.5 | J92: =G92+H92 -> 10 | K92: =(B92+D92)/H92 -> 0.2
A93: tout type de service | B93: =SUM(B88:B92) -> 4 | C93: =SUM(C88:C92) -> 37 | D93: =SUM(D88:D92) -> 35 | E93: =SUM(E88:E92) -> 23 | F93: =SUM(F88:F92) -> 44 | G93: =SUM(G88:G92) -> 355 | H93: =SUM(H88:H92) -> 143 | I93: =H93/J93 -> 0.28714859 | J93: =G93+H93 -> 498 | K93: =(B93+D93)/H93 -> 0.27272727
