Workbook

Sheet mairies
A1: id | B1: ogc_fid | C1: nature | D1: x | E1: y | F1: insee_comm | G1: nom_comm | H1: maire | I1: adresse | J1: BV | K1: Hors ZI | L1: En ZI | M1: TF | N1: F | O1: M | P1: Rés | Q1: Ruis | R1: Indif | S1: tel | T1: fax | U1: mail | V1: ouverture
A2: 88 | B2: 88 | C2: Mairie | D2: 748946.64 | E2: 6317178.9 | F2: 30199 | G2: POMMIERS | H2: M TOUREILLE Denis | I2: Le Verdier 30120 Pommiers | J2: Hérault | K2: 1 | S2: 04 67 81 26 44 | U2: mairie.pommiers30@orange.fr | V2: Mardi 9h-12h
A3: 23 | B3: 23 | C3: Mairie | D3: 771154.74 | E3: 6326331.7 | F3: 30335 | G3: VABRES | H3: M PUDDU Jean-Noël | I3: Mairie 30460 Vabres | J3: Gardons | K3: 1 | S3: 04 66 85 28 79 | T3: 04 66 85 28 79 | U3: mairie.vabres@laposte.net | V3: Mercredi et vendredi 17h-19h
A4: 324 | B4: 325 | C4: Mairie | D4: 740431.03 | E4: 6321523.9 | F4: 30025 | G4: AUMESSAS | H4: M BARRAL Philippe | I4: Les Charmilles 30770 Aumessas | J4: Hérault | K4: 1 | S4: 04 67 82 03 57 | T4: 04 67 81 39 04 | U4: mairieaumessas@wanadoo.fr | V4: Lundi 9h-12h
A5: 4 | B5: 4 | C5: Mairie | D5: 766424.02 | E5: 6329760 | F5: 30322 | G5: SOUDORGUES | H5: M VAN PETEGHEM Bertrand | I5: Mairie Le Portal 30460 Soudorgues | J5: Gardons | K5: 1 | S5: 04 66 85 21 12 09 71 33 34 40 | U5: mairie.soudorgues@wanadoo.fr | V5: Mardi, samedi 10h-12h Vendredi 14h-16h
A6: 21 | B6: 21 | C6: Mairie | D6: 735257.3 | E6: 6318741.8 | F6: 30009 | G6: ALZON | H6: M LAURENS Roger | I6: Place de la Mairie 30770 Alzon | J6: Hérault | K6: 1 | S6: 04 66 82 01 63 | T6: 04 66 82 02 37 | U6: mairie.alzon@wanadoo.fr | V6: lundi - mercredi 9h00 ├á 11h30/14h00 16h00 vendredi 9h00 11h30
A7: 22 | B7: 22 | C7: Mairie | D7: 735621.29 | E7: 6329585 | F7: 30105 | G7: DOURBIES | H7: Mme LEBEAU Irène | I7: Mairie 30750 Dourbies | J7: Tarn Dourbie | K7: 1 | S7: 04 67 82 72 46 | T7: 04 67 82 75 11 | U7: mairiededourbies@orange.fr | V7: Lundi au Vendredi 8h30-12h15 Lundi, jeudi, vendredi de 13h30 ├á 17h
A8: 26 | B8: 26 | C8: Mairie | D8: 779985.31 | E8: 6325362.5 | F8: 30330 | G8: TORNAC | H8: Mme VIGNE Marielle | I8: 1543 route de Saint Hippolyte du Fort 30140 Tornac | J8: Gardons | K8: 1 | S8: 04 66 61 71 41 | T8: 04 66 60 57 08 | U8: mairietornac@wanadoo.fr | V8: Lundi, mardi, jeudi, vendredi 9h-12h / 13h30- 17h Mercredi 9h-12h
A9: 30 | B9: 30 | C9: Mairie | D9: 778769.45 | E9: 6331824.5 | F9: 30129 | G9: GENERARGUES | H9: M JACOT Thierry | I9: 1 route de Mialet 30140 Générargues | J9: Gardons | K9: 1 | S9: 04 66 61 72 04 | U9: mairie.generargues@wanadoo.fr | V9: Lundi 8h00 12h00 et 13h30 18h00 Mardi 8h00 18h00 Jeudi:8h00 12h00 et 13h30 18h00 Vendredi: 8h00 12h00
A10: 31 | B10: 31 | C10: Mairie | D10: 747018.97 | E10: 6322653.9 | F10: 30024 | G10: AULAS | H10: M MONTET Bruno | I10: Le Fossé 30120 Aulas | J10: Hérault | K10: 1 | S10: 04 67 81 10 26 | T10: 04 67 81 74 64 | U10: mairie.aulas@wanadoo.fr | V10: Lundi, mardi, jeudi et vendredi 8h-12h
A11: 33 | B11: 33 | C11: Mairie | D11: 775509.34 | E11: 6335091.3 | F11: 30168 | G11: MIALET | H11: M VERRIEZ Jack | I11: Mairie 30140 Mialet | J11: Gardons | K11: 1 | S11: 04 66 85 02 97 | T11: 04 66 85 01 89 | U11: communedemialet2@wanadoo.fr | V11: Lundi, mercredi, vendredi 9h-12h et 14h-18h, mardi et jeudi 14h-18h
A12: 55 | B12: 55 | C12: Mairie | D12: 781495.51 | E12: 6369130.7 | F12: 30153 | G12: MALONS-ET-ELZE | H12: M OLIVA Jean | I12: Hôtel de Ville 30450 Malons et Elze | J12: Cèze | K12: 1 | S12: 04 66 61 10 94 | U12: mairie.malons-et-elze@laposte.net | V12: Mardi au Vendredi 9h-12h
A13: 101 | B13: 101 | C13: Mairie | D13: 781589.08 | E13: 6320595.5 | F13: 30289 | G13: SAINT-NAZAIRE-DES-GARDIES | H13: M. MAZAURIC Pierre | I13: Mairie 30610 Saint Nazaire des Gardies | J13: Vidourle | K13: 1 | S13: 04 66 77 11 92 | U13: mairiedestnazairedesgardies@nordnet.fr | V13: Lundi et vendredi 8h-12h
A14: 34 | B14: 34 | C14: Mairie | D14: 755221.64 | E14: 6318687 | F14: 30272 | G14: SAINT-JULIEN-DE-LA-NEF | H14: M FAIDHERBE Lucas | I14: Mairie 30440 Saint Julien de la Nef | J14: Hérault | K14: 1 | S14: 04 67 82 44 80 | U14: saint.julien.mairie@orange.fr | V14: Lundi,vendredi 14h-17h Mercredi 9h-12h
A15: 37 | B15: 37 | C15: Mairie | D15: 780245.35 | E15: 6311061.2 | F15: 30148 | G15: LIOUC | H15: M JAHANT Guy | I15: Mairie 62 montée de l'aire 30260 Liouc | J15: Vidourle | K15: 1 | S15: 04 66 77 30 44 | U15: mairie.de.liouc@wanadoo.fr | V15: Mardi 13h30-18h30 Vendredi 8h30-16h30
A16: 59 | B16: 59 | C16: Mairie | D16: 776226.69 | E16: 6316203.2 | F16: 30311 | G16: SAUVE | H16: M GAILLARD Olivier | I16: Place Sivel BP 5 30610 Sauve | J16: Vidourle | L16: 1 | R16: 1 | S16: 04 66 77 50 19 | T16: 04 66 77 57 38 | U16: mairie.sauve@wanadoo.fr | V16: Lundi au jeudi 8h-12h / 13h30-17h30 Vendredi 8h-12h / 13h30-16h30
A17: 61 | B17: 61 | C17: Mairie | D17: 770855.32 | E17: 6334441.4 | F17: 30269 | G17: SAINT-JEAN-DU-GARD | H17: M RUAS Michel | I17: 1, rue du Maréchal de Thoiras 30270 Saint Jean du Gard | J17: Gardons | L17: 1 | R17: 1 | S17: 04 66 56 26 36 | T17: 04 66 56 26 44 | U17: contact@ville-saintjeandugard.fr | V17: Lundi au vendredi 8h-12h / 14h-17h, samedi 9h-12h
A18: 115 | B18: 115 | C18: Mairie | D18: 736929.01 | E18: 6311252.5 | F18: 30353 | G18: VISSEC | H18: M PONS Laurent | I18: Mairie 30770 Vissec | J18: Hérault | K18: 1 | S18: 04 67 81 50 58 | U18: mairie.vissec@laposte.net | V18: Mercredi 10h-16h
A19: 68 | B19: 68 | C19: Mairie | D19: 733703.61 | E19: 6317216.4 | F19: 30064 | G19: CAMPESTRE-ET-LUC | H19: M BRUNEL Jean-Marie | I19: Hôtel de Ville 30770 Campestre et Luc | J19: Hérault | K19: 1 | S19: 04 67 82 01 35 | U19: mairie-campestre@orange.fr | V19: Mardi 9h-15h Samedi 9h-12h
A20: 80 | B20: 80 | C20: Mairie | D20: 782044.57 | E20: 6324785.9 | F20: 30162 | G20: MASSILLARGUES-ATTUECH | H20: Mme GENOLHER Aurélie | I20: Hôtel de Ville 30140 Massillargues-Attuech | J20: Gardons | K20: 1 | S20: 04 66 61 71 65 | T20: 04 66 61 60 02 | U20: mairie.massillargues-atuech@wanadoo.fr | V20: Lundi, mardi, jeudi, vendredi 8h30-12h / 16h00-17h30 Mercredi 8h30-12h
A21: 82 | B21: 82 | C21: Mairie | D21: 745933.66 | E21: 6321276.2 | F21: 30052 | G21: BREAU-MARS | H21: M DURAND Alain | I21: Mairie 30120 Bréau et Salagosse | J21: Hérault | K21: 1 | S21: 04 67 81 04 60 | U21: contact@breau-salagosse.fr | V21: Lundi au vendredi 8h-12h
A22: 87 | B22: 87 | C22: Mairie | D22: 757281.59 | E22: 6320276.1 | F22: 30325 | G22: SUMENE | H22: M PAILLER Ghislain | I22: 26 Place du plan 30440 Sumène | J22: Hérault | L22: 1 | R22: 1 | S22: 04 67 81 30 05 | T22: 04 67 81 33 79 | U22: mairie-de-sumene@wanadoo.fr | V22: Lundi au vendredi 8h30-12h et 14h-17h30
A23: 89 | B23: 89 | C23: Mairie | D23: 781708.32 | E23: 6328345.7 | F23: 30042 | G23: BOISSET-ET-GAUJAC | H23: M HEUDDEBAUTJulien | I23: Place Emile Chambon 30140 Boisset et Gaujac | J23: Gardons | K23: 1 | S23: 04 66 61 82 46 | T23: 04 66 61 93 28 | U23: mairie.boissetetgaujac@orange.fr | V23: Lundi au vendredi 9h-12h / 14h-17h Samedi 9h-12h
A24: 112 | B24: 112 | C24: Mairie | D24: 779052.72 | E24: 6328757.9 | F24: 30010 | G24: ANDUZE | H24: Mme BLANC Geneviève | I24: Plan de Brie 30140 Anduze | J24: Gardons | L24: 1 | N24: 1 | S24: 04 66 61 80 08 | T24: 04 66 61 96 95 | U24: mairie.anduze@laposte.net | V24: Lundi au mercredi 9h-12h / 13h30-16h30 Jeudi 9h-12h Vendredi 9h-12h / 13h30-15h30 Samedi 10h-12h
A25: 113 | B25: 113 | C25: Mairie | D25: 745827.94 | E25: 6310025.9 | F25: 30219 | G25: ROGUES | H25: Mme DURAND Martine | I25: Le Village 30120 Rogues et Madières | J25: Hérault | K25: 1 | S25: 04 67 81 50 00 | U25: rogues30@wanadoo.fr | V25: Mercredi de 9h├á12h Jeudi de 14h ├á 17h30
A26: 114 | B26: 114 | C26: Mairie | D26: 751374.23 | E26: 6331548 | F26: 30339 | G26: VAL D'AIGOUAL | H26: M GAUTHIER Joël | I26: Mairie 1 place Francis Cavalier Benezet 30570 Valleraugue | J26: Hérault | L26: 1 | N26: 1 | S26: 04 67 81 79 60 | T26: 04 67 81 79 68 | U26: mairie@valdaigoual.fr | V26: Lundi au Mercredi 8h30-12h /13h30-17h30 Mardi et jeudi 8h30 ├á 12h Vendredi 8h30 ├á 12h et 13h30 ├á 17h
A27: 131 | B27: 131 | C27: Mairie | D27: 762791.32 | E27: 6334558.8 | F27: 30108 | G27: ESTRECHURE (L') | H27: Mme MACQUART Bernadette | I27: Mairie 30124 L'Estréchure | J27: Gardons | L27: 1 | R27: 1 | S27: 04 66 83 91 08 | U27: mairie.l-estrechure@wanadoo.fr | V27: Lundi au Mardi 13h30-17h15 Vendredi 8h30-12h15
A28: 138 | B28: 138 | C28: Mairie | D28: 741223.62 | E28: 6312816 | F28: 30040 | G28: BLANDAS | H28: M WELLER Marc | I28: Hôtel de ville 30770 Blandas | J28: Hérault | K28: 1 | S28: 04 67 81 51 23 | U28: commune-de-blandas@orange.fr | V28: Lundi, mardi et jeudi 14h-17h
A29: 142 | B29: 142 | C29: Mairie | D29: 769336.95 | E29: 6330453.3 | F29: 30246 | G29: SAINTE-CROIX-DE-CADERLE | H29: M MOURGUES Ludovic | I29: Le Village 30460 Sainte Croix de Caderle | J29: Gardons | K29: 1 | S29: 04 66 85 22 63 | U29: mairie-ste-croix30@wanadoo.fr | V29: Lundi 13h-16h Jeudi 14h-16h
A30: 155 | B30: 155 | C30: Mairie | D30: 768845.41 | E30: 6318860.3 | F30: 30263 | G30: SAINT-HIPPOLYTE-DU-FORT | H30: M OLIVIERI Bruno | I30: Place de la Mairie 30170 Saint Hippolyte du Fort | J30: Vidourle | L30: 1 | R30: 1 | S30: 04 66 77 22 24 | T30: 04 66 77 93 13 | U30: mairie.sthippo@wanadoo.fr | V30: Lundi au Jeudi 8h30- 12h / 14h30-17h30 Vendredi 8h30-12h / 14h30-16h30
A31: 159 | B31: 159 | C31: Mairie | D31: 746277.73 | E31: 6319753.1 | F31: 30170 | G31: MOLIERES-CAVAILLAC | H31: M CANAYER Roland | I31: Mairie 30120 Molières Cavaillac | J31: Hérault | K31: 1 | S31: 04 67 81 03 99 | T31: 04 67 81 70 20 | U31: mairie.molieres-cavaillac@wanadoo.fr | V31: Lundi au vendredi 10h-12h et 16h-18h
A32: 163 | B32: 164 | C32: Mairie | D32: 771081.92 | E32: 6322753 | F32: 30172 | G32: MONOBLET | H32: M CASTANON Philippe | I32: Mairie 30170 Monoblet | J32: Vidourle | K32: 1 | S32: 04 66 85 24 97 | U32: mairie@monoblet.org | V32: Lundi au Mardi 9h- 12h / 14h-18h Jeudi 9h /12h et de 14h-18h Vendredi 9h-12h / 14h-17h
A33: 168 | B33: 169 | C33: Mairie | D33: 772924.75 | E33: 6316811.5 | F33: 30093 | G33: CONQUEYRAC | H33: M DAUTHEVILLE Jacques | I33: Mairie 30170 Conqueyrac | J33: Vidourle | L33: 1 | R33: 1 | S33: 04 66 77 20 81 | U33: mairiedeconqueyrac@wanadoo.fr | V33: Mardi 9h-12h Jeudi 10h-12h Samedi 8h45-11h45
A34: 173 | B34: 174 | C34: Mairie | D34: 738200.32 | E34: 6335306.3 | F34: 30297 | G34: SAINT-SAUVEUR-CAMPRIEU | H34: Mme AMASSE Nicole | I34: Mairie 30750 Saint Sauveur Camprieu | J34: Tarn Dourbie | K34: 1 | S34: 04 67 82 60 26 | U34: saint-sauveur-camprieu@orange.fr | V34: Lundi au vendredi 8h-12h
A35: 180 | B35: 181 | C35: Mairie | D35: 776616.15 | E35: 6321607.8 | F35: 30106 | G35: DURFORT-ET-SAINT-MARTIN-DE-SOSSENAC | H35: M CONDOMINES Robert | I35: Chemin Neuf 30170 Durfort St Martin Sossenac | J35: Vidourle | K35: 1 | S35: 04 66 77 50 56 | U35: mairie.durfort@wanadoo.fr | V35: Lundi Mardi et Vendredi de 13h ├á 17h - Jeudi 8h30 ├á 12h et 13h ├á 18h30
A36: 181 | B36: 182 | C36: Mairie | D36: 757876.53 | E36: 6335486.9 | F36: 30198 | G36: PLANTIERS (LES) | H36: M MOUNIER Bernard | I36: Mairie 30122 Les Plantiers | J36: Gardons | K36: 1 | S36: 04 66 83 90 33 | T36: 04 66 83 95 62 | U36: mairie-plantiers@orange.fr | V36: Lundi, mardi, mercredi et vendredi 8h-12h
A37: 188 | B37: 189 | C37: Mairie | D37: 752706.59 | E37: 6314950.8 | F37: 30280 | G37: SAINT-LAURENT-LE-MINIER | H37: M BELTOISE Bruno | I37: Place Louis Serre 30440 Saint Laurent le Minier | J37: Hérault | L37: 1 | R37: 1 | S37: 04 67 73 85 10 | T37: 04 67 73 51 93 | U37: saintlaurentleminier@wanadoo.fr | V37: lundi 8 h - 12 h 14 h - 17 h mardi 8 h - 12 h 15 h 17 h mercredi 14 h - 17 h jeudi 8 h -12 h vendredi 7 h 30 - 11 h 30
A38: 195 | B38: 196 | C38: Mairie | D38: 750133.12 | E38: 6324795.3 | F38: 30154 | G38: MANDAGOUT | H38: M GRIEU Emmanuel | I38: Mairie 30120 Mandagout | J38: Hérault | K38: 1 | S38: 04 67 81 13 83 | T38: 04 67 81 04 94 | U38: mairie.mandagout@wanadoo.fr | V38: Lundi, jeudi, vendredi 9h-12h Mardi 9h-12h00 / 14h- 17h
A39: 202 | B39: 203 | C39: Mairie | D39: 774712.87 | E39: 6325345.9 | F39: 30252 | G39: SAINT-FELIX-DE-PALLIERES | H39: M SALA Michel | I39: Mairie 30140 Saint Félix de Pallières | J39: Gardons + Vidourle | K39: 1 | S39: 04 66 61 64 45 | U39: mairie.st.felix.pallieres@wanadoo.fr | V39: Lundi, jeudi 14h-18h Mardi, mercredi, vendredi 8h-12h
A40: 206 | B40: 207 | C40: Mairie | D40: 765996.88 | E40: 6325816.8 | F40: 30087 | G40: COLOGNAC | H40: M BRESSET Cyrille | I40: Le Village 30460 Colognac | J40: Gardons | K40: 1 | S40: 04 66 85 27 88 | U40: mairie.colognac@laposte.net | V40: Mardi, Jeudi 14h-16h Samedi 10h-12h
...

Sheet services
A1: ogc_fid | B1: id | C1: insee | D1: type | E1: nom | F1: adresse | G1: cp | H1: ville | I1: BV | J1: Hors ZI | K1: En ZI | L1: TF | M1: F | N1: M | O1: Rés | P1: Ruis | Q1: Indif | R1: tel | S1: courriel | T1: effectif | U1: x_l93 | V1: y_l93
A2: 1 | B2: 22 | C2: 30133 | D2: Police municipale | E2: POLICE MUNICIPALE LE GRAU DU ROI | F2: 1 place de la Libération | G2: 30240 | H2: GRAU DU ROI (LE) | I2: Rhône + Vidourle | K2: 1 | Q2: 1 | R2: 04 66 73 94 22 | T2: 0 | U2: 792021.38 | V2: 6271155.9
A3: 2 | B3: 23 | C3: 30141 | D3: Police municipale | E3: POLICE MUNICIPALE LAUDUN L'ARDOISE | F3: Place Résistance | G3: 30290 | H3: LAUDUN L'ARDOISE | I3: Cèze + Rhône | K3: 1 | M3: 1 | R3: 04 66 50 55 60 | S3: pm@laudunlardoise.fr | T3: 0 | U3: 836236.38 | V3: 6334431.9
A4: 3 | B4: 24 | C4: 30155 | D4: Police municipale | E4: POLICE MUNICIPALE MANDUEL | F4: 2 bis rue de Saint Gilles | G4: 30129 | H4: MANDUEL | I4: Vistre | K4: 1 | O4: 1 | R4: 04 66 20 60 22 | T4: 0 | U4: 818259.37 | V4: 6303155.7
A5: 4 | B5: 25 | C5: 30156 | D5: Police municipale | E5: POLICE MUNICIPALE MARGUERITTES | F5: 2 rue Georges Taillefer | G5: 30320 | H5: MARGUERITTES | I5: Vistre | J5: 1 | R5: 04 66 59 58 58 | T5: 5 | U5: 816106.77 | V5: 6307819
A6: 5 | B6: 26 | C6: 30169 | D6: Police municipale | E6: POLICE MUNICIPALE MILHAUD | F6: 1 rue Pierre Guérin | G6: 30540 | H6: MILHAUD | I6: Vistre | J6: 1 | R6: 04 66 74 36 95 | S6: police.municipale@ville-milhaud.fr | T6: 0 | U6: 805351.88 | V6: 6299838
A7: 6 | B7: 27 | C7: 30171 | D7: Police municipale | E7: POLICE MUNICIPALE MOLIERES SUR CEZE | F7: Rue de la Cèze | G7: 30410 | H7: MOLIERES SUR CEZE | I7: Cèze | K7: 1 | M7: 1 | R7: 04 66 24 66 23 | T7: 0 | U7: 792479.34 | V7: 6352007.2
A8: 7 | B8: 28 | C8: 30179 | D8: Police municipale | E8: POLICE MUNICIPALE MONTFRIN | F8: 5 avenue Pierre Mendès France | G8: 30490 | H8: MONTFRIN | I8: Gardons + Rhône | K8: 1 | N8: 1 | R8: 04 66 57 39 63 | S8: pm.montfrin@orange.fr | T8: 3 | U8: 827992.76 | V8: 6309913.7
A9: 8 | B9: 29 | C9: 30189 | D9: Police municipale | E9: POLICE MUNICIPALE NIMES POSTE CENTRAL | F9: Immeuble Axiome 150 rue Louis Landi | G9: 30900 | H9: NIMES | I9: Vistre | K9: 1 | N9: 1 | R9: 04 66 02 56 00 | T9: 149 | U9: 809110.05 | V9: 6303168.2
A10: 9 | B10: 30 | C10: 30189 | D10: Police municipale | E10: POLICE MUNICIPALE NIMES POSTE SECTEUR CENTRE VILLE | F10: 9 rue Rangueil | G10: 30900 | H10: NIMES | I10: Vistre | K10: 1 | N10: 1 | R10: 04 66 67 42 66 | T10: 0 | U10: 809499.74 | V10: 6305624.2
A11: 10 | B11: 31 | C11: 30189 | D11: Police municipale | E11: POLICE MUNICIPALE NIMES POSTE SECTEUR OUEST ST CESAIRE | F11: 263, Avenue du Maréchal Joffre | G11: 30900 | H11: NIMES | I11: Vistre | K11: 1 | O11: 1 | T11: 0 | U11: 806238.91 | V11: 6302711.8
A12: 11 | B12: 32 | C12: 30189 | D12: Police municipale | E12: POLICE MUNICIPALE NIMES POSTE SECTEUR EST MAS DE VILLE | F12: 492, chemin du Pont des Isles, Stade Kaufmann | G12: 30900 | H12: NIMES | I12: Vistre | K12: 1 | N12: 1 | T12: 0 | U12: 811707.64 | V12: 6304560.1
A13: 12 | B13: 33 | C13: 30189 | D13: Police nationale | E13: HOTEL DE POLICE DE NIMES | F13: 245 avenue Pierre Gamel | G13: 30000 | H13: NIMES | I13: Vistre | K13: 1 | M13: 1 | R13: 04 66 27 30 00 | T13: 0 | U13: 809515.6 | V13: 6304035.6
A14: 13 | B14: 34 | C14: 30189 | D14: Police nationale | E14: COMMISSARIAT EST NIMES | F14: 329 avenue Bir Hakeim | G14: 30000 | H14: NIMES | I14: Vistre | K14: 1 | N14: 1 | R14: 04 66 26 67 59 | T14: 0 | U14: 811462.48 | V14: 6305789.8
A15: 14 | B15: 35 | C15: 30189 | D15: Police nationale | E15: COMMISSARIAT OUEST NIMES | F15: 4 promenade Newton | G15: 30900 | H15: NIMES | I15: Vistre | J15: 1 | R15: 04 66 64 28 27 | T15: 0 | U15: 806950.44 | V15: 6304435.8
A16: 15 | B16: 36 | C16: 30189 | D16: Police nationale | E16: ECOLE NATIONALE DE POLICE | F16: 286 avenue Clément Ader | G16: 30000 | H16: NIMES | I16: Vistre | K16: 1 | L16: 1 | R16: 04 66 28 31 00 | T16: 0 | U16: 812937.55 | V16: 6307580.5
A17: 16 | B17: 37 | C17: 30189 | D17: Police nationale | E17: CENTRE DE RETENTION ADMINISTRATIF | F17: 286 avenue Clément Ader | G17: 30000 | H17: NIMES | I17: Vistre | K17: 1 | L17: 1 | R17: 04 66 27 34 00 | T17: 0 | U17: 812935.46 | V17: 6307590.4
A18: 17 | B18: 38 | C18: 30202 | D18: Police municipale | E18: POLICE MUNICIPALE PONT SAINT ESPRIT | F18: Boulevard Gambetta | G18: 30130 | H18: PONT SAINT ESPRIT | I18: Rhône + Ardèche | J18: 1 | R18: 04 66 39 65 60 | T18: 0 | U18: 831555.83 | V18: 6352062.1
A19: 18 | B19: 39 | C19: 30206 | D19: Police municipale | E19: POLICE MUNICIPALE POULX | F19: Place de l'hôtel de Ville | G19: 30320 | H19: POULX | I19: Gardons | J19: 1 | R19: 04 66 75 59 20 | T19: 0 | U19: 814387.72 | V19: 6313499.5
A20: 19 | B20: 40 | C20: 30209 | D20: Police municipale | E20: POLICE MUNICIPALE PUJAUT | F20: Place de la Poste | G20: 30131 | H20: PUJAUT | I20: Rhône | J20: 1 | R20: 06 09 52 65 77 | T20: 2 | U20: 842414.54 | V20: 6324444
A21: 20 | B21: 41 | C21: 30210 | D21: Police municipale | E21: POLICE MUNICIPALE QUISSAC | F21: Place du Serret passage Monbounoux | G21: 30260 | H21: QUISSAC | I21: Vidourle | J21: 1 | R21: 04 66 35 46 13 | S21: policedequissac@orange.fr | T21: 3 | U21: 780321.19 | V21: 6312886.7
A22: 21 | B22: 42 | C22: 30211 | D22: Police municipale | E22: POLICE MUNICIPALE REDESSAN | F22: 13 avenue de la République | G22: 30129 | H22: REDESSAN | I22: Vistre | J22: 1 | R22: 04 66 20 52 47 | T22: 0 | U22: 820356.23 | V22: 6304801.2
A23: 22 | B23: 43 | C23: 30212 | D23: Police intercommunale | E23: POLICE COMMUNAUTE DE COMMUNES DU PONT DU GARD | F23: 1 rue des Ecoles | G23: 30210 | H23: REMOULINS | I23: Gardons | K23: 1 | N23: 1 | R23: 06 37 65 44 27 | T23: 0 | U23: 825521.41 | V23: 6316808.2
A24: 23 | B24: 44 | C24: 30217 | D24: Police municipale | E24: POLICE MUNICIPALE RO0CHEFORT DU GARD | F24: Place du lavoir | G24: 30650 | H24: ROCHEFORT DU GARD | I24: Rhône | J24: 1 | R24: 04 90 26 69 03 | S24: police.municipale@ville-rochefortdugard.fr | T24: 0 | U24: 835635.69 | V24: 6320988.9
A25: 24 | B25: 45 | C25: 30221 | D25: Police municipale | E25: POLICE MUNICIPALE ROQUEMAURE | F25: Place de la Mairie | G25: 30150 | H25: ROQUEMAURE | I25: Rhône | K25: 1 | Q25: 1 | R25: 04 66 90 54 26 | T25: 0 | U25: 842527.23 | V25: 6329731.8
A26: 25 | B26: 46 | C26: 30227 | D26: Police municipale | E26: POLICE MUNICIPALE SAINT AMBROIX | F26: Boulevard Portalet | G26: 30500 | H26: SAINT AMBROIX | I26: Cèze | J26: 1 | R26: 04 66 25 47 27 | T26: 0 | U26: 795527.55 | V26: 6351956.5
A27: 26 | B27: 47 | C27: 30243 | D27: Police municipale | E27: POLICE MUNICIPALE SAINT CHRISTOL LES ALES | F27: 94 av Jean Moulin | G27: 30380 | H27: SAINT CHRISTOL LES ALES | I27: Gardons | J27: 1 | R27: 04 66 60 90 31 | T27: 0 | U27: 786266.28 | V27: 6332154.2
A28: 27 | B28: 48 | C28: 30243 | D28: Police nationale | E28: BUREAU DE POLICE SAINT CHRISTOL | F28: 76 avenue Jean Moulin | G28: 30380 | H28: SAINT CHRISTOL LES ALES | I28: Gardons | J28: 1 | R28: 06 27 75 02 82 | T28: 0 | U28: 786260.93 | V28: 6332178.6
A29: 28 | B29: 49 | C29: 30255 | D29: Police municipale | E29: POLICE MUNICIPALE SAINT GENIES DE MALGOIRES | F29: 24 les Boulevards | G29: 30190 | H29: SAINT GENIES DE MALGOIRES | I29: Gardons | J29: 1 | R29: 06 72 36 91 32 | T29: 5 | U29: 797680.24 | V29: 6316958.1
A30: 29 | B30: 50 | C30: 30258 | D30: Police municipale | E30: POLICE MUNICIPALE SAINT GILLES | F30: 4 rue Victor Hugo | G30: 30800 | H30: SAINT GILLES | I30: Rhône | J30: 1 | R30: 04 66 87 31 44 | T30: 0 | U30: 815435.5 | V30: 6287371.6
A31: 30 | B31: 51 | C31: 30269 | D31: Police municipale | E31: POLICE MUNICIPALE SAINT JEAN DU GARD | F31: Avenue René Boudon | G31: 30270 | H31: SAINT JEAN DU GARD | I31: Gardons | K31: 1 | Q31: 1 | R31: 04 66 85 13 41 | T31: 0 | U31: 770848.36 | V31: 6334449.2
A32: 31 | B32: 52 | C32: 30276 | D32: Police municipale | E32: POLICE MUNICIPALE SAINT LAURENT D'AIGOUZE | F32: Rue Henry Mery | G32: 30220 | H32: SAINT LAURENT D'AIGOUZE | I32: Vidourle + Vistre + Rhône | K32: 1 | O32: 1 | R32: 04 66 88 11 99 | S32: police@mairiesldaigouze.fr | T32: 0 | U32: 796508.31 | V32: 6282385.2
A33: 32 | B33: 53 | C33: 30295 | D33: Police municipale | E33: POLICE MUNICIPALE SAINT QUENTIN | F33: 6 place Belle Croix | G33: 30700 | H33: SAINT QUENTIN LA POTERIE | I33: Gardons | J33: 1 | R33: 04 66 37 30 59 | T33: 0 | U33: 815496.25 | V33: 6328531.5
A34: 33 | B34: 54 | C34: 30312 | D34: Police municipale | E34: POLICE MUNICIPALE SAUVETERRE | F34: 155 avenue Languedoc | G34: 30150 | H34: SAUVETERRE | I34: Rhône | J34: 1 | R34: 04 66 82 87 94 | T34: 0 | U34: 843789.8 | V34: 6326725.7
A35: 34 | B35: 55 | C35: 30321 | D35: Police municipale | E35: POLICE MUNICIPALE SOMMIERES | F35: 5 Rue Abbé Fabre - Espace Jules Ferry | G35: 30250 | H35: SOMMIERES | I35: Vidourle | K35: 1 | M35: 1 | R35: 04 66 80 43 80 | S35: police@sommieres.fr | T35: 0 | U35: 787631.29 | V35: 6298962.4
A36: 35 | B36: 56 | C36: 30334 | D36: Police intercommunale | E36: POLICE INTERCOMMUNALE PAYS UZES | F36: 1 place du Duché | G36: 30700 | H36: UZES | I36: Gardons | J36: 1 | R36: 04 66 02 09 28 | T36: 8 | U36: 813879.94 | V36: 6324832.4
A37: 36 | B37: 57 | C37: 30334 | D37: Police municipale | E37: POLICE MUNICIPALE UZES | F37: 1 place du Duché | G37: 30700 | H37: UZES | I37: Gardons | J37: 1 | R37: 04 66 03 48 40 | T37: 0 | U37: 813882.61 | V37: 6324832.1
A38: 37 | B38: 58 | C38: 30341 | D38: Police municipale | E38: POLICE MUNICIPALE VAUVERT | F38: 2 rue des Casernes | G38: 30600 | H38: VAUVERT | I38: Vistre | J38: 1 | R38: 04 66 73 10 80 | S38: police-municipale@vauvert.com | T38: 0 | U38: 802893.09 | V38: 6288922.1
A39: 38 | B39: 59 | C39: 30344 | D39: Police municipale | E39: POLICE MUNICIPALE VERGEZE | F39: 1 rue Basse | G39: 30310 | H39: VERGEZE | I39: Vistre | J39: 1 | R39: 04 66 35 25 31 | T39: 0 | U39: 798333.38 | V39: 6294587.1
A40: 39 | B40: 60 | C40: 30351 | D40: Police municipale | E40: POLICE MUNICIPALE VILLENEUVE LES AVIGNON | F40: Allée Pierre-Louis Loisil | G40: 30400 | H40: VILLENEUVE LES AVIGNON | I40: Rhône | K40: 1 | Q40: 1 | R40: 04 90 25 90 15 | T40: 0 | U40: 844012.56 | V40: 6320403.8
...

Sheet communes
A1: INSEE | B1: COMMUNES | C1: BV | D1: CONFL | E1: Nb_services | F1: mairie | G1: police | H1: gendarmerie | I1: pompiers | J1: UT CG30 | K1: DIRMED | L1: Hors ZI | M1: en ZI | N1: Très Fort | O1: Fort | P1: Modéré | Q1: Résduel | R1: Ruissellement | S1: Indifférencié | T1: % services ZI/services
A2: 30001 | B2: AIGALIERS | C2: Gardon | E2: =F2+G2+H2+I2+J2+K2 -> 1 | F2: 1 | L2: 1 | M2: =SUM(N2:S2) -> 0 | T2: =M2/E2 -> 0
A3: 30002 | B3: AIGREMONT | C3: Vidourle | E3: =F3+G3+H3+I3+J3+K3 -> 1 | F3: 1 | L3: 1 | M3: =SUM(N3:S3) -> 0 | T3: =M3/E3 -> 0
A4: 30003 | B4: AIGUES MORTES | C4: Camargue | D4: rhône+vistre+ vidourle | E4: =F4+G4+H4+I4+J4+K4 -> 3 | F4: 1 | G4: 1 | H4: 1 | L4: 0 | M4: =SUM(N4:S4) -> 3 | S4: 3 | T4: =M4/E4 -> 1
A5: 30004 | B5: AIGUES VIVES | C5: Vistre | D5: vistre+vidourle | E5: =F5+G5+H5+I5+J5+K5 -> 3 | F5: 1 | G5: 1 | K5: 1 | L5: 2 | M5: =SUM(N5:S5) -> 1 | P5: 1 | T5: =M5/E5 -> 0.33333333
A6: 30005 | B6: AIGUEZE | C6: Ardèche | E6: =F6+G6+H6+I6+J6+K6 -> 1 | F6: 1 | L6: 1 | M6: =SUM(N6:S6) -> 0 | T6: =M6/E6 -> 0
A7: 30006 | B7: AIMARGUES | C7: Vidourle | D7: rhône+vistre+ vidourle | E7: =F7+G7+H7+I7+J7+K7 -> 3 | F7: 1 | G7: 1 | H7: 1 | L7: 0 | M7: =SUM(N7:S7) -> 3 | O7: 1 | P7: 1 | Q7: 1 | T7: =M7/E7 -> 1
A8: 30007 | B8: ALES | C8: Gardon | E8: =F8+G8+H8+I8+J8+K8 -> 6 | F8: 1 | G8: 2 | H8: 1 | I8: 1 | J8: 1 | L8: 4 | M8: =SUM(N8:S8) -> 2 | Q8: 2 | T8: =M8/E8 -> 0.33333333
A9: 30008 | B9: ALLEGRE LES FUMADES | C9: Cèze | E9: =F9+G9+H9+I9+J9+K9 -> 1 | F9: 1 | L9: 1 | M9: =SUM(N9:S9) -> 0 | T9: =M9/E9 -> 0
A10: 30009 | B10: ALZON | C10: Hérault | E10: =F10+G10+H10+I10+J10+K10 -> 1 | F10: 1 | L10: 1 | M10: =SUM(N10:S10) -> 0 | T10: =M10/E10 -> 0
A11: 30010 | B11: ANDUZE | C11: Gardon | E11: =F11+G11+H11+I11+J11+K11 -> 2 | F11: 1 | H11: 1 | L11: 0 | M11: =SUM(N11:S11) -> 2 | O11: 1 | P11: 1 | T11: =M11/E11 -> 1
A12: 30011 | B12: ANGLES (LES) | C12: Rhône | E12: =F12+G12+H12+I12+J12+K12 -> 4 | F12: 1 | G12: 1 | I12: 1 | K12: 1 | L12: 3 | M12: =SUM(N12:S12) -> 1 | S12: 1 | T12: =M12/E12 -> 0.25
A13: 30012 | B13: ARAMON | C13: Rhône | D13: gardon+rhône | E13: =F13+G13+H13+I13+J13+K13 -> 3 | F13: 1 | G13: 1 | H13: 1 | L13: 0 | M13: =SUM(N13:S13) -> 3 | O13: 3 | T13: =M13/E13 -> 1
A14: 30013 | B14: ARGILLIERS | C14: Gardon | E14: =F14+G14+H14+I14+J14+K14 -> 1 | F14: 1 | L14: 1 | M14: =SUM(N14:S14) -> 0 | T14: =M14/E14 -> 0
A15: 30014 | B15: ARPAILLARGUES ET AUREILLAC | C15: Gardon | E15: =F15+G15+H15+I15+J15+K15 -> 1 | F15: 1 | L15: 1 | M15: =SUM(N15:S15) -> 0 | T15: =M15/E15 -> 0
A16: 30015 | B16: ARPHY | C16: Hérault | D16: hérault+tarn | E16: =F16+G16+H16+I16+J16+K16 -> 1 | F16: 1 | L16: 0 | M16: =SUM(N16:S16) -> 1 | S16: 1 | T16: =M16/E16 -> 1
A17: 30016 | B17: ARRE | C17: Hérault | E17: =F17+G17+H17+I17+J17+K17 -> 1 | F17: 1 | L17: 1 | M17: =SUM(N17:S17) -> 0 | T17: =M17/E17 -> 0
A18: 30017 | B18: ARRIGAS | C18: Hérault | E18: =F18+G18+H18+I18+J18+K18 -> 1 | F18: 1 | L18: 1 | M18: =SUM(N18:S18) -> 0 | T18: =M18/E18 -> 0
A19: 30018 | B19: ASPERES | C19: Vidourle | E19: =F19+G19+H19+I19+J19+K19 -> 1 | F19: 1 | L19: 1 | M19: =SUM(N19:S19) -> 0 | T19: =M19/E19 -> 0
A20: 30019 | B20: AUBAIS | C20: Vidourle | E20: =F20+G20+H20+I20+J20+K20 -> 1 | F20: 1 | L20: 1 | M20: =SUM(N20:S20) -> 0 | T20: =M20/E20 -> 0
A21: 30020 | B21: AUBORD | C21: Vistre | E21: =F21+G21+H21+I21+J21+K21 -> 1 | F21: 1 | L21: 0 | M21: =SUM(N21:S21) -> 1 | O21: 1 | T21: =M21/E21 -> 1
A22: 30021 | B22: AUBUSSARGUES | C22: Gardon | E22: =F22+G22+H22+I22+J22+K22 -> 1 | F22: 1 | L22: 1 | M22: =SUM(N22:S22) -> 0 | T22: =M22/E22 -> 0
A23: 30022 | B23: AUJAC | C23: Cèze | E23: =F23+G23+H23+I23+J23+K23 -> 1 | F23: 1 | L23: 1 | M23: =SUM(N23:S23) -> 0 | T23: =M23/E23 -> 0
A24: 30023 | B24: AUJARGUES | C24: Vidourle | E24: =F24+G24+H24+I24+J24+K24 -> 1 | F24: 1 | L24: 1 | M24: =SUM(N24:S24) -> 0 | T24: =M24/E24 -> 0
A25: 30024 | B25: AULAS | C25: Hérault | E25: =F25+G25+H25+I25+J25+K25 -> 1 | F25: 1 | L25: 1 | M25: =SUM(N25:S25) -> 0 | T25: =M25/E25 -> 0
A26: 30025 | B26: AUMESSAS | C26: Hérault | E26: =F26+G26+H26+I26+J26+K26 -> 1 | F26: 1 | L26: 1 | M26: =SUM(N26:S26) -> 0 | T26: =M26/E26 -> 0
A27: 30026 | B27: AVEZE | C27: Hérault | E27: =F27+G27+H27+I27+J27+K27 -> 1 | F27: 1 | L27: 0 | M27: =SUM(N27:S27) -> 1 | S27: 1 | T27: =M27/E27 -> 1
A28: 30027 | B28: BAGARD | C28: Gardon | E28: =F28+G28+H28+I28+J28+K28 -> 1 | F28: 1 | L28: 0 | M28: =SUM(N28:S28) -> 1 | P28: 1 | T28: =M28/E28 -> 1
A29: 30028 | B29: BAGNOLS SUR CEZE | C29: Cèze | E29: =F29+G29+H29+I29+J29+K29 -> 5 | F29: 1 | G29: 2 | H29: 1 | J29: 1 | L29: 3 | M29: =SUM(N29:S29) -> 2 | Q29: 2 | T29: =M29/E29 -> 0.4
A30: 30029 | B30: BARJAC | C30: Cèze | D30: cèze+ardèche | E30: =F30+G30+H30+I30+J30+K30 -> 3 | F30: 1 | H30: 1 | I30: 1 | L30: 3 | M30: =SUM(N30:S30) -> 0 | T30: =M30/E30 -> 0
A31: 30030 | B31: BARON | C31: Gardon | E31: =F31+G31+H31+I31+J31+K31 -> 1 | F31: 1 | L31: 1 | M31: =SUM(N31:S31) -> 0 | T31: =M31/E31 -> 0
A32: 30031 | B32: BASTIDE D'ENGRAS (LA) | C32: Cèze | E32: =F32+G32+H32+I32+J32+K32 -> 1 | F32: 1 | L32: 1 | M32: =SUM(N32:S32) -> 0 | T32: =M32/E32 -> 0
A33: 30032 | B33: BEAUCAIRE | C33: Rhône | E33: =F33+G33+H33+I33+J33+K33 -> 4 | F33: 1 | G33: 2 | I33: 1 | L33: 3 | M33: =SUM(N33:S33) -> 1 | O33: 1 | T33: =M33/E33 -> 0.25
A34: 30033 | B34: BEAUVOISIN | C34: Vistre | D34: rhône+vistre | E34: =F34+G34+H34+I34+J34+K34 -> 2 | F34: 1 | G34: 1 | L34: 2 | M34: =SUM(N34:S34) -> 0 | T34: =M34/E34 -> 0
A35: 30034 | B35: BELLEGARDE | C35: Rhône | D35: rhône+vistre | E35: =F35+G35+H35+I35+J35+K35 -> 3 | F35: 1 | G35: 1 | H35: 1 | L35: 1 | M35: =SUM(N35:S35) -> 2 | O35: 1 | P35: 1 | T35: =M35/E35 -> 0.66666667
A36: 30035 | B36: BELVEZET | C36: Gardon | E36: =F36+G36+H36+I36+J36+K36 -> 1 | F36: 1 | L36: 1 | M36: =SUM(N36:S36) -> 0 | T36: =M36/E36 -> 0
A37: 30036 | B37: BERNIS | C37: Vistre | E37: =F37+G37+H37+I37+J37+K37 -> 3 | F37: 1 | G37: 1 | H37: 1 | L37: 0 | M37: =SUM(N37:S37) -> 3 | P37: 3 | T37: =M37/E37 -> 1
A38: 30037 | B38: BESSEGES | C38: Cèze | E38: =F38+G38+H38+I38+J38+K38 -> 5 | F38: 1 | G38: 1 | H38: 1 | I38: 1 | J38: 1 | L38: 2 | M38: =SUM(N38:S38) -> 3 | O38: 2 | Q38: 1 | T38: =M38/E38 -> 0.6
A39: 30038 | B39: BEZ ET ESPARON | C39: Hérault | E39: =F39+G39+H39+I39+J39+K39 -> 1 | F39: 1 | L39: 1 | M39: =SUM(N39:S39) -> 0 | T39: =M39/E39 -> 0
A40: 30039 | B40: BEZOUCE | C40: Vistre | E40: =F40+G40+H40+I40+J40+K40 -> 1 | F40: 1 | L40: 1 | M40: =SUM(N40:S40) -> 0 | T40: =M40/E40 -> 0
...

Sheet bilan
A1: services administratifs et opérationnels
A4: bassin versant | B4: Nb services | C4: Nb mairies | D4: nb poste de police | E4: nb poste de gendamerie | F4: nb casernes pompiers | G4: nb services routes (DIRMED + UTCD30) | H4: nb services en zone inondable | I4: % services en ZI / total services | N4: Nb services | O4: mairies | P4: postes de police | Q4: postes de gendamerie | R4: centres d'intervention des pompiers | S4: centres d'intervention routiers (DIRMED + UT CD30)
A5: Gardons | B5: =C5+D5+E5+F5+G5 -> 166 | C5: 127 | D5: =2+9+2+1 -> 14 | E5: 15 | F5: 7 | G5: =1+2 -> 3 | H5: =G17 -> 42 | I5: =H5/B5 -> 0.25301205 | J5: =D5+E5+F5+G5 -> 39 | N5: =B13 -> 498 | O5: =C13 -> 351 | P5: =D13 -> 61 | Q5: =E13 -> 45 | R5: =F13 -> 31 | S5: =G13 -> 10
A6: Cèze | B6: =C6+D6+E6+F6+G6 -> 104 | C6: 82 | D6: 6 | E6: 8 | F6: 6 | G6: 2 | H6: =G18 -> 18 | I6: =H6/B6 -> 0.17307692 | J6: =D6+E6+F6+G6 -> 22
A7: Rhône | B7: =C7+D7+E7+F7+G7 -> 65 | C7: 29 | D7: =18 -> 18 | E7: =4+1+2+1+2 -> 10 | F7: =6+1 -> 7 | G7: 1 | H7: =G19 -> 35 | I7: =H7/B7 -> 0.53846154 | J7: =D7+E7+F7+G7 -> 36
A8: Ardèche | B8: =C8+D8+E8+F8+G8 -> 12 | C8: =8+1 -> 9 | D8: 1 | E8: 1 | F8: 1 | G8: 0 | H8: =G20 -> 1 | I8: =H8/B8 -> 0.083333333 | J8: =D8+E8+F8+G8 -> 3
A9: Vidourle | B9: =C9+D9+E9+F9+G9 -> 73 | C9: 56 | D9: 7 | E9: 6 | F9: 4 | G9: 0 | H9: =G21 -> 22 | I9: =H9/B9 -> 0.30136986 | J9: =D9+E9+F9+G9 -> 17
A10: Vistre - Rhony | B10: =C10+D10+E10+F10+G10 -> 84 | C10: =40 -> 40 | D10: 27 | E10: =6+2+1 -> 9 | F10: 5 | G10: =1+1+1 -> 3 | H10: =G22 -> 43 | I10: =H10/B10 -> 0.51190476 | J10: =D10+E10+F10+G10 -> 44
A11: Hérault | B11: =C11+D11+E11+F11+G11 -> 33 | C11: 27 | D11: 0 | E11: 3 | F11: 2 | G11: 1 | H11: =G23 -> 8 | I11: =H11/B11 -> 0.24242424 | J11: =D11+E11+F11+G11 -> 6
A12: Tarn - Dourbie | B12: =C12+D12+E12+F12+G12 -> 9 | C12: 6 | D12: 0 | E12: 1 | F12: 2 | G12: 0 | H12: =G24 -> 3 | I12: =H12/B12 -> 0.33333333 | J12: =D12+E12+F12+G12 -> 3
A13: GARD | B13: =C13+D13+E13+F13+G13 -> 498 | C13: =communes!F353 -> 351 | D13: =communes!G353 -> 61 | E13: =communes!H353 -> 45 | F13: =communes!I353 -> 31 | G13: =communes!J353+communes!K353 -> 10 | H13: =communes!M353 -> 143 | I13: =H13/B13 -> 0.28714859 | J13: =D13+E13+F13+G13 -> 147
A16: bassin versant | B16: aléa très fort et fort | C16: aléa modéré | D16: aléa résiduel | E16: aléa indifférencié | F16: hors zone inondable | G16: total en ZI | H16: total
A17: Gardons | B17: =7+4 -> 11 | C17: =6+5 -> 11 | D17: =5+4 -> 9 | E17: =8+3 -> 11 | F17: =101+23 -> 124 | G17: =B17+C17+D17+E17 -> 42 | H17: =F17+G17 -> 166
A18: Cèze | B18: =5+3 -> 8 | C18: =2+1 -> 3 | D18: =4+2 -> 6 | E18: =1 -> 1 | F18: =70+16 -> 86 | G18: =B18+C18+D18+E18 -> 18 | H18: =F18+G18 -> 104
A19: Rhône | B19: =5+6 -> 11 | C19: =3+2 -> 5 | D19: =2+1 -> 3 | E19: =4+12 -> 16 | F19: =15+15 -> 30 | G19: =B19+C19+D19+E19 -> 35 | H19: =F19+G19 -> 65
A20: Ardèche | B20: 0 | C20: 0 | D20: 0 | E20: 1 | F20: =8+3 -> 11 | G20: =B20+C20+D20+E20 -> 1 | H20: =F20+G20 -> 12
A21: Vidourle | B21: =1+4 -> 5 | C21: =1+1 -> 2 | D21: =2+1 -> 3 | E21: =7+5 -> 12 | F21: =45+6 -> 51 | G21: =B21+C21+D21+E21 -> 22 | H21: =F21+G21 -> 73
A22: Vistre - Rhony | B22: =5+5+4 -> 14 | C22: =5+14 -> 19 | D22: =3+3 -> 6 | E22: =2+2 -> 4 | F22: =25+16 -> 41 | G22: =B22+C22+D22+E22 -> 43 | H22: =F22+G22 -> 84 | K22: =34/132 -> 0.25757576
A23: Hérault | B23: 1 | C23: 0 | D23: 0 | E23: 7 | F23: =22+3 -> 25 | G23: =B23+C23+D23+E23 -> 8 | H23: =F23+G23 -> 33 | K23: =C25/132 -> 0.26515152
A24: Tarn - Dourbie | B24: 0 | C24: 0 | D24: 0 | E24: =1+2 -> 3 | F24: =5+1 -> 6 | G24: =B24+C24+D24+E24 -> 3 | H24: =F24+G24 -> 9
A25: GARD | B25: =communes!N353+communes!O353 -> 41 | C25: =communes!P353 -> 35 | D25: =communes!Q353 -> 23 | E25: =communes!S353 -> 44 | F25: =B13-G25 -> 355 | G25: =B25+C25+D25+E25 -> 143 | H25: =F25+G25 -> 498 | K25: =(34+28)/G25 -> 0.43356643
B27: aléa très fort | C27: aléa fort | D27: aléa modéré | E27: aléa résiduel | F27: aléa indifférencié | G27: hors zone inondable | H27: total en ZI | I27: total
B28: =communes!N353 -> 4 | C28: =communes!O353 -> 37 | D28: 35 | E28: 23 | F28: 44 | G28: 355 | H28: 143 | I28: 498
C29: =(B28+C28)/H28 -> 0.28671329 | D29: =D28/H28 -> 0.24475524 | E29: =E28/H28 -> 0.16083916 | F29: =F28/G25 -> 0.30769231
C31: hors zone inondable | D31: en zone inondable
C32: =F25 -> 355 | D32: =G25 -> 143
A87: types de services | B87: aléa très fort | C87: aléa fort | D87: aléa modéré | E87: aléa résiduel | F87: aléa indifférencié | G87: hors zone inondable | H87: total en ZI | I87: % en ZI
A88: mairies | B88: =mairies!M354 -> 0 | C88: =mairies!N354 -> 20 | D88: =mairies!O354 -> 15 | E88: =mairies!P354 -> 13 | F88: =mairies!R354 -> 24 | G88: =mairies!K354 -> 279 | H88: =B88+C88+D88+E88+F88 -> 72 | I88: =H88/J88 -> 0.20512821 | J88: =G88+H88 -> 351 | K88: =(B88+D88)/H88 -> 0.20833333
A89: postes de police | B89: 2 | C89: 9 | D89: 8 | E89: 5 | F89: 7 | G89: 30 | H89: =B89+C89+D89+E89+F89 -> 31 | I89: =H89/J89 -> 0.50819672 | J89: =G89+H89 -> 61 | K89: =(B89+D89)/H89 -> 0.32258065
A90: postes de gendarmerie | B90: 1 | C90: 4 | D90: 7 | E90: 2 | F90: 7 | G90: 24 | H90: =B90+C90+D90+E90+F90 -> 21 | I90: =H90/J90 -> 0.46666667 | J90: =G90+H90 -> 45 | K90: =(B90+D90)/H90 -> 0.38095238
A91: centres d'intervention pompiers | B91: 1 | C91: 3 | D91: 4 | E91: 0 | F91: 6 | G91: 17 | H91: =B91+C91+D91+E91+F91 -> 14 | I91: =H91/J91 -> 0.4516129 | J91: =G91+H91 -> 31 | K91: =(B91+D91)/H91 -> 0.35714286
A92: centres d'intervention routiers | B92: 0 | C92: 1 | D92: 1 | E92: 3 | F92: 0 | G92: 5 | H92: =B92+C92+D92+E92+F92 -> 5 | I92: =H92/J92 -> 0.5 | J92: =G92+H92 -> 10 | K92: =(B92+D92)/H92 -> 0.2
A93: tout type de service | B93: =SUM(B88:B92) -> 4 | C93: =SUM(C88:C92) -> 37 | D93: =SUM(D88:D92) -> 35 | E93: =SUM(E88:E92) -> 23 | F93: =SUM(F88:F92) -> 44 | G93: =SUM(G88:G92) -> 355 | H93: =SUM(H88:H92) -> 143 | I93: =H93/J93 -> 0.28714859 | J93: =G93+H93 -> 498 | K93: =(B93+D93)/H93 -> 0.27272727
